Workbook
Name _____________ANX1: #REF!
Name _____________ANX1: #REF!
Name _____________ANX1: #REF!
Name _____________ANX2: #REF!
Name _____________ANX2: #REF!
Name _____________ANX2: #REF!
Name _____________ANX3: #REF!
Name _____________ANX3: #REF!
Name _____________ANX3: #REF!
Name _____________SCH11: #REF!
Name _____________SCH11: #REF!
Name ____________ANX1: #REF!
Name ____________ANX1: #REF!
Name ____________ANX2: #REF!
Name ____________ANX2: #REF!
Name ____________ANX3: #REF!
Name ____________ANX3: #REF!
Name ____________SCH11: #REF!
Name ____________SCH11: #REF!
Name ___________ANX1: #REF!
Name ___________ANX1: #REF!
Name ___________ANX2: #REF!
Name ___________ANX2: #REF!
Name ___________ANX3: #REF!
Name ___________ANX3: #REF!
Name ___________SCH11: #REF!
Name ___________SCH11: #REF!
Name __________ANX1: #REF!
Name __________ANX1: #REF!
Name __________ANX2: #REF!
Name __________ANX2: #REF!
Name __________ANX3: #REF!
Name __________ANX3: #REF!
Name __________SCH11: #REF!
Name __________SCH11: #REF!
Name _________ANX1: #REF!
Name _________ANX1: #REF!
Name _________ANX2: #REF!
Name _________ANX2: #REF!
Name _________ANX3: #REF!
Name _________ANX3: #REF!
Name _________SCH11: #REF!
Name _________SCH11: #REF!
Name ________ANX1: #REF!
Name ________ANX1: #REF!
Name ________ANX2: #REF!
Name ________ANX2: #REF!
Name ________ANX3: #REF!
Name ________ANX3: #REF!
Name ________SCH11: #REF!
Name ________SCH11: #REF!
Name _______ANX1: #REF!
Name _______ANX1: #REF!
Name _______ANX2: #REF!
Name _______ANX2: #REF!
Name _______ANX3: #REF!
Name _______ANX3: #REF!
Name _______SCH11: #REF!
Name _______SCH11: #REF!
Name ______ANX1: #REF!

Sheet GEN INFO(MBBS & PG)
C2: APPENDIX - I
C3: GENERAL INFORMATION OF THE SOCIETY / INSTITUTION
D5: PLEASE NOTE THAT YOU SHOULD FILL IN PARTICULARS FOR ONLY THOSE PROGRAMMES WHICH ARE OFFERED IN THE COLLEGE AND DELETE THOSE WHICH ARE NOT OFFERED IN ALL THE SCHEDULES WHERE APPLICABLE
D8: NAME OF THE SOCIETY /TRUST : | F8: PRATHIMA EDUCATIONAL SOCIETY
D10: ADDRESS OF THE TRUST | I10: PRATHIMA , PLOT NO.213 , ROAD NO.1 , FILM NAGAR , HYDERABAD-96
D12: NO. OF INSTITUTIONS UNDER THE SOCIETY | I12: 3
D14: NAMES OF THE INSTITUTIONS UNDER THE SOCIETY
D16: S.No. | E16: NAME | I16: PROGRAMMES
D18: A | E18: PRATHIMA INSTITUTE OF MEDICAL SCIENCES | I18: MBBS & PG
D19: B | E19: PRATHIMA COLLEGE OF NURSING | I19: B.SC(N) , M.Sc(N) and GNM
D20: C | E20: PRATHIMA INSTITUTE OF MEDICAL SCIENCES | I20: B.Sc(MLT) , B.Sc(Allied) & Para Medical
D22: ADDRESS OF THE INSTITUTION | I22: VILLAGE NAGUNURU , DIST KARIMNAGAR, TELANGANA STATE
D24: DETAILS OF SANCTIONED PROGRAMMES, INTAKE & STUDENTS ADMITTED FOR THE YEAR 2024-25
D26: S.NO. | E26: SANCTIONED | I26: STUDENTS ADMITTED | K26: FEE PROPOSAL FOR THE BLOCK PERIOD 2026-27 to 2028-29
E27: COURSE | F27: YEAR | G27: BRANCH | H27: INTAKE | I27: CATEGORY | J27: INTAKE
D28: Under Graduate Course:
D29: 1 | E29: M.B.B.S | F29: 1ST YEAR | G29: ECE-1 | H29: 125 | I29: A | J29: 125 | K29: Fee proposed for thee Block Period Rs.9.76 Lakshs per instalment. Old existing students continue to pay at respective rates
H30: 87 | I30: B | J30: 87
H31: 38 | I31: C | J31: 38
F32: Sub Total | H32: =SUM(H29:H31) -> 250 | J32: =SUM(J29:J31) -> 250
F33: 2ND YEAR | G33: ECE-2 | H33: 125 | I33: A | J33: 125
H34: 87 | I34: B | J34: 87
H35: 38 | I35: C | J35: 38
F36: Sub Total | H36: =SUM(H33:H35) -> 250 | J36: =SUM(J33:J35) -> 250
F37: 3RD YEAR | G37: EEE | H37: 100 | I37: A | J37: 100
H38: 70 | I38: B | J38: 69
H39: 30 | I39: C | J39: 30
F40: Sub Total | H40: =SUM(H37:H39) -> 200 | J40: =SUM(J37:J39) -> 199
F41: 4TH YEAR | G41: MECH | H41: 113 | I41: A | J41: 113
H42: 77 | I42: B | J42: 77
H43: 38 | I43: C | J43: 38
F44: Sub Total | H44: =SUM(H41:H43) -> 228 | J44: =SUM(J41:J43) -> 228
F45: 5TH YEAR | G45: MECH | H45: 100 | I45: A | J45: 100
H46: 70 | I46: B | J46: 69
H47: 30 | I47: C | J47: 30
F48: Sub Total | H48: =SUM(H45:H47) -> 200 | J48: =SUM(J45:J47) -> 199
D49: TOTAL | H49: =+H44+H40+H36+H32+H48 -> 1128 | J49: =+J44+J40+J36+J32+J48 -> 1126
D50: Post Graduate Courses:
D51: 2 | E51: CLINICAL DEGREE | F51: YEAR | G51: INTAKE | H51: INTAKE | I51: CATEGORY | J51: INTAKE | K51: Fee proposed for thee Block Period Rs.17.32 Lakshs per student. Old existing students continue to pay at respective rates
E53: ENT | F53: IST YEAR | H53: 1 | I53: Competent Authourity | J53: 1
...

Sheet Statement1(MBBS&PG)
B2: PRATHIMA INSTITUTE OF MEDICAL SCIENCES STATEMENT-1
J3: Amount in Rs.
B4: INCOME & EXPENDITURE STATEMENT OF THE INSTITUTION FOR THE FINANCIAL YEAR 2023-24 & 2024-25
B5: PARTICULARS | F5: MBBS | H5: PG | J5: CONSOLIDATED
F6: FOR THE PERIOD FROM 01/04/2023 TO 31/03/2024 | G6: FOR THE PERIOD FROM 01/04/2024 TO 31/03/2025 | H6: FOR THE PERIOD FROM 01/04/2023 TO 31/03/2024 | I6: FOR THE PERIOD FROM 01/04/2024 TO 31/03/2025 | J6: FOR THE PERIOD FROM 01/04/2023 TO 31/03/2024 | K6: FOR THE PERIOD FROM 01/04/2024 TO 31/03/2025
B7: INCOME:
C8: Fee Collection | F8: 683555000 | G8: 729335000 | H8: 420482325 | I8: 563673100 | J8: 1104037325 | K8: 1293008100
E9: Less Development Fund (NRI) | F9: 0 | G9: 0 | H9: 0 | I9: 0 | J9: 0 | K9: 0
E10: Net Collection : (Fee Collection - Development Fund) | F10: 683555000 | G10: 729335000 | H10: 420482325 | I10: 563673100 | J10: 1104037325 | K10: 1293008100
E11: Special fee | F11: 0 | G11: 0 | H11: 0 | I11: 0 | J11: 0 | K11: 0
C12: OTHER INCOME
D13: Income from Patients | F13: 1.6676711e+08 | G13: 1.9691301e+08 | H13: 59924671 | I13: 67677919 | J13: 2.2669178e+08 | K13: 2.6459093e+08
D14: Interest Received | F14: 0 | G14: 0 | H14: 0 | I14: 0 | J14: 0 | K14: 0
D15: College Bus FeeCollections | F15: 0 | G15: 0 | H15: 0 | I15: 0 | J15: 0 | K15: 0
D16: Interest on AICTE FDRs | F16: 21844019 | G16: 24172336 | H16: 7849243.4 | I16: 8307898.8 | J16: 29693262 | K16: 32480235
D17: Interest on Electricity Deposits | F17: 23988.998 | G17: 629072.31 | H17: 8620.002 | I17: 216208.69 | J17: 32609 | K17: 845281
D18: Surplus from Seminars | F18: 0 | G18: 0 | H18: 0 | I18: 0 | J18: 0 | K18: 0
D19: Miscellaneous Income | F19: 22906887 | G19: 1408031.4 | H19: 8231165.4 | I19: 483932.64 | J19: 31138052 | K19: 1891964.1
D20: Any other Income (specify Head-wise)
E21: Pharmacy Sales | F21: 8701670.7 | G21: 11074378 | H21: 3126784.2 | I21: 3806202.6 | J21: 11828455 | K21: 14880580
E22: Hostel / Other Fee | F22: 99747235 | G22: 1.0834883e+08 | H22: 35842321 | I22: 37238898 | J22: 1.3558956e+08 | K22: 1.4558773e+08
C23: Revenue Grants
C24: Donations & Contributions
B25: TOTAL INCOME | F25: =+SUM(F10:F24) -> 1.0035459e+09 | G25: =+SUM(G10:G24) -> 1.0718807e+09 | H25: =+SUM(H10:H24) -> 5.3546513e+08 | I25: =+SUM(I10:I24) -> 6.8140416e+08 | J25: =+SUM(J10:J24) -> 1.539011e+09 | K25: =+SUM(K10:K24) -> 1.7532848e+09
B27: EXPENDITURE
C28: SALARIES
D29: Department wise Staff (Clinical) Salaries | F29: 1.0472825e+08 | G29: 90802469 | H29: 1.3677051e+08 | I29: 1.2220851e+08 | J29: 241498762 | K29: 213010978
E30: Eligible Staff
D31: Department wise Staff (Non-Clinical) Salaries | F31: 33000794 | G31: 39151228 | H31: 45210181 | I31: 51773703 | J31: 78210975 | K31: 90924931
E32: Eligible Staff
D33: Ancillary Serivices Staff Salaries | F33: 45480317 | G33: 52572026 | H33: 45480317 | I33: 52572026 | J33: 90960634 | K33: 1.0514405e+08
E34: Eligible Staff
C36: Administrative & Other Expenses | F36: 5.0803487e+08 | G36: 5.2045875e+08 | H36: 3.8096767e+08 | I36: 3.9012858e+08 | J36: 8.8900253e+08 | K36: 9.1058733e+08
C37: Finance Costs | F37: 30890897 | G37: 32521821 | H37: 0 | I37: 0 | J37: 30890897 | K37: 32521821
C38: Depreciation | F38: 91418208 | G38: 96149551 | H38: 8285241 | I38: 5381900.6 | J38: 99703449 | K38: 1.0153145e+08
C39: Utilisation of Revenue Grants | F39: 0 | G39: 0 | H39: 0 | I39: 0 | J39: 0 | K39: 0
B40: TOTAL EXPENDITURE | F40: =+SUM(F27:F39) -> 8.1355333e+08 | G40: =+SUM(G27:G39) -> 8.3165585e+08 | H40: =+SUM(H27:H39) -> 6.1671392e+08 | I40: =+SUM(I27:I39) -> 6.2206472e+08 | J40: =+SUM(J27:J39) -> 1.4302673e+09 | K40: =+SUM(K27:K39) -> 1.4537206e+09
C41: Surplus/ (Deficit) | F41: =F25-F40 -> 1.8999257e+08 | G41: =G25-G40 -> 2.4022482e+08 | H41: =H25-H40 -> -81248786 | I41: =I25-I40 -> 59339440 | J41: =J25-J40 -> 1.0874379e+08 | K41: =K25-K40 -> 2.9956426e+08
B42: SANCTIONED INTAKE / APPROVED BY UNIVERSITY | F42: 1077 | G42: 1126 | H42: 387 | I42: 387 | J42: 1464 | K42: 1513
B43: AVERAGE EXPENDITURE PER STUDENT | F43: =F40/F42 -> 755388.43 | G43: =G40/G42 -> 738593.11 | H43: =H40/H42 -> 1593576 | I43: =I40/I42 -> 1607402.4 | J43: =J40/J42 -> 976958.51 | K43: =K40/K42 -> 960819.94

Sheet Statement2(PIMS MBBS&PG)
B2: NAME OF THE SOCIETY | F2: PRATHIMA EDUCATION SOCIETY | J2: STATEMENT - 2
J3: Amount in Rs.
B4: INCOME & EXPENDITURE STATEMENT OF THE SOCIETY FOR THE FINANCIAL YEAR 2023-24 & 2024-25 FOR THE FINANCIAL YEAR 2020-21 , 2021-22 & 2022-23
B5: PARTICULARS | F5: SOCIETY | H5: PIMS (MBBS & PG) | J5: NURSING & BSC(MLT) , BSC(AHS) & PARA MEDICAL
F6: FOR THE PERIOD FROM 01/04/2023 TO 31/03/2024 | G6: FOR THE PERIOD FROM 01/04/2024 TO 31/03/2025 | H6: FOR THE PERIOD FROM 01/04/2023 TO 31/03/2024 | I6: FOR THE PERIOD FROM 01/04/2024 TO 31/03/2025 | J6: FOR THE PERIOD FROM 01/04/2023 TO 31/03/2024 | K6: FOR THE PERIOD FROM 01/04/2024 TO 31/03/2025
B7: INCOME:
C8: Fee Collection | F8: 1132356825 | G8: 1335340600 | H8: 1104037325 | I8: 1293008100 | J8: 28319500 | K8: 42332500
E9: Less Development Fund (NRI) | F9: 0 | G9: 0 | H9: 0 | I9: 0 | J9: 0 | K9: 0
E10: Net Collection : (Fee Collection - Development Fund) | F10: 1132356825 | G10: 1335340600 | H10: 1104037325 | I10: 1293008100 | J10: 28319500 | K10: 42332500
E11: Special fee | F11: 0 | G11: 0 | H11: 0 | I11: 0 | J11: 0 | K11: 0
C12: OTHER INCOME
D13: Income from Patients | F13: 2.2669178e+08 | G13: 2.6459093e+08 | H13: 2.2669178e+08 | I13: 2.6459093e+08 | J13: 0 | K13: 0
D14: Interest Received | F14: 0 | G14: 0 | H14: 0 | I14: 0 | J14: 0 | K14: 0
D15: College Bus FeeCollections | F15: 0 | G15: 0 | H15: 0 | I15: 0 | J15: 0 | K15: 0
D16: Interest on AICTE FDRs | F16: 29693262 | G16: 32480235 | H16: 29693262 | I16: 32480235 | J16: 0 | K16: 0
D17: Interest on Electricity Deposits | F17: 32609 | G17: 845281 | H17: 32609 | I17: 845281 | J17: 0 | K17: 0
D18: Surplus from Seminars | F18: 0 | G18: 0 | H18: 0 | I18: 0 | J18: 0 | K18: 0
D19: Miscellaneous Income | F19: 31138052 | G19: 1891964.1 | H19: 31138052 | I19: 1891964.1 | J19: 0 | K19: 0
D20: Any other Income (specify Head-wise)
E21: Pharmacy Sales | F21: 11828455 | G21: 14880580 | H21: 11828455 | I21: 14880580 | J21: 0 | K21: 0
E22: Hostel / Other Fee | F22: 1.3558956e+08 | G22: 1.4558773e+08 | H22: 1.3558956e+08 | I22: 1.4558773e+08 | J22: 0 | K22: 0
C23: Revenue Grants
C24: Donations & Contributions
B25: TOTAL INCOME | F25: =+SUM(F10:F24) -> 1.5673305e+09 | G25: =+SUM(G10:G24) -> 1.7956173e+09 | H25: =+SUM(H10:H24) -> 1.539011e+09 | I25: =+SUM(I10:I24) -> 1.7532848e+09 | J25: =+SUM(J10:J24) -> 28319500 | K25: =+SUM(K10:K24) -> 42332500
B27: EXPENDITURE
C28: SALARIES
D29: Department wise Staff (Clinical) Salaries | F29: 241498762 | G29: 213010978 | H29: 241498762 | I29: 213010978 | J29: 13352339 | K29: 24158653
E30: Eligible Staff
D31: Department wise Staff (Non-Clinical) Salaries | F31: 78210975 | G31: 90924931 | H31: 78210975 | I31: 90924931 | J31: 0 | K31: 0
E32: Eligible Staff
D33: Ancillary Serivices Staff Salaries | F33: 121199093 | G33: 147603759 | H33: 90960634 | I33: 1.0514405e+08 | J33: 16886120 | K33: 18301053
E34: Eligible Staff
C36: Administrative & Other Expenses | F36: 8.8900253e+08 | G36: 9.1058733e+08 | H36: 8.8900253e+08 | I36: 9.1058733e+08 | J36: 0 | K36: 0
C37: Finance Costs | F37: 30890897 | G37: 32521821 | H37: 30890897 | I37: 32521821 | J37: 0 | K37: 0
C38: Depreciation | F38: 1.0006939e+08 | G38: 1.0189739e+08 | H38: 99703449 | I38: 1.0153145e+08 | J38: 365936.82 | K38: 365936.82
C39: Utilisation of Revenue Grants | F39: 0 | G39: 0 | H39: 0 | I39: 0 | J39: 0 | K39: 0
B40: TOTAL EXPENDITURE | F40: =+SUM(F27:F39) -> 1.4608716e+09 | G40: =+SUM(G27:G39) -> 1.4965462e+09 | H40: =+SUM(H27:H39) -> 1.4302673e+09 | I40: =+SUM(I27:I39) -> 1.4537206e+09 | J40: =+SUM(J27:J39) -> 30604396 | K40: =+SUM(K27:K39) -> 42825643
C41: Surplus/ (Deficit) | F41: =F25-F40 -> 1.0645889e+08 | G41: =G25-G40 -> 2.9907112e+08 | H41: =H25-H40 -> 1.0874379e+08 | I41: =I25-I40 -> 2.9956426e+08 | J41: =J25-J40 -> -2284895.8 | K41: =K25-K40 -> -493142.82
B42: SANCTIONED INTAKE / APPROVED BY UNIVERSITY | F42: 2249 | G42: 2500 | H42: 1464 | I42: 1513 | J42: 785 | K42: 987
B43: AVERAGE EXPENDITURE PER STUDENT | F43: =F40/F42 -> 649564.98 | G43: =G40/G42 -> 598618.48 | H43: =H40/H42 -> 976958.51 | I43: =I40/I42 -> 960819.94 | J43: =J40/J42 -> 38986.491 | K43: =K40/K42 -> 43389.709

Sheet SCH-1(MBBS & PG)
C3: NAME OF THE INSTITUTION PRATHIMA INSTITUTE OF MEDICAL SCIENCES
C5: CODE OF THE INSTITUTION | L5: SCHEDULE - 1
C7: DETAILS OF FEE COLLECTIONS FOR ALL THE PROGRAMMES IN THE INSTITUTION FOR THE FINANCIAL YEAR 2024-25 , 2023-24 , 2022-23 & 2021-22
V8: AMOUNT IN Rs.
C9: S.No. | D9: PROGRAMME | E9: YEAR | F9: SANCTIONED | G9: FEE COLLECTIONS | K9: SANCTIONED | L9: FEE COLLECTIONS | P9: SANCTIONED | Q9: FEE COLLECTIONS | U9: SANCTIONED | V9: FEE COLLECTIONS
G10: CATEGORY | H10: ACADEMIC YEAR 2024-25 | L10: CATEGORY | M10: ACADEMIC YEAR 2023-24 | Q10: CATEGORY | R10: ACADEMIC YEAR 2022-23 | V10: CATEGORY | W10: ACADEMIC YEAR 2021-22
F11: INTAKE | H11: ADMITTED | I11: FEE | J11: TOTAL FEE | K11: INTAKE | M11: ADMITTED | N11: FEE | O11: TOTAL FEE | P11: INTAKE | R11: ADMITTED | S11: FEE | T11: TOTAL FEE | U11: INTAKE | W11: ADMITTED | X11: FEE | Y11: TOTAL FEE
C12: UNDER-GRADUATE COURSE:
I13: 1 | J13: 3=(1+2)
C14: 1 | D14: =+'[1]GEN INFO'!E35 -> M.B.B.S | E14: IST YEAR | F14: 125 | G14: A | H14: 125 | I14: 60000 | J14: =I14*H14 -> 7500000 | K14: 125 | L14: A | M14: 125 | N14: 60000 | O14: =N14*M14 -> 7500000 | P14: 100 | Q14: A | R14: 100 | S14: 60000 | T14: =S14*R14 -> 6000000 | U14: 113 | V14: A | W14: 113 | X14: 60000 | Y14: =X14*W14 -> 6780000
F15: 87 | G15: B | H15: 87 | I15: 1200000 | J15: =I15*H15 -> 104400000 | K15: 87 | L15: B | M15: 87 | N15: 1200000 | O15: =N15*M15 -> 104400000 | P15: 70 | Q15: B | R15: 70 | S15: 1155000 | T15: =S15*R15 -> 80850000 | U15: 77 | V15: B | W15: 77 | X15: 1155000 | Y15: =X15*W15 -> 88935000
F16: 26 | G16: C1 | H16: 26 | I16: 1200000 | J16: =I16*H16 -> 31200000 | K16: 20 | L16: C1 | M16: 20 | N16: 1200000 | O16: =N16*M16 -> 24000000 | P16: 27 | Q16: C1 | R16: 27 | S16: 1155000 | T16: =S16*R16 -> 31185000 | U16: 30 | V16: C1 | W16: 30 | X16: 1155000 | Y16: =X16*W16 -> 34650000
F17: 12 | G17: C2 | H17: 12 | I17: 2400000 | J17: =I17*H17 -> 28800000 | K17: 18 | L17: C2 | M17: 18 | N17: =O17/M17 -> 1777777.8 | O17: 32000000 | P17: 3 | Q17: C2 | R17: 3 | S17: 2310000 | T17: =S17*R17 -> 6930000 | U17: 8 | V17: C2 | W17: 8 | X17: 2310000 | Y17: =X17*W17 -> 18480000
E18: Sub Total | F18: =SUM(F14:F17) -> 250 | G18: TOTAL | H18: =SUM(H14:H17) -> 250 | J18: =SUM(J14:J17) -> 171900000 | K18: =SUM(K14:K17) -> 250 | L18: TOTAL | M18: =SUM(M14:M17) -> 250 | O18: =SUM(O14:O17) -> 167900000 | P18: =SUM(P14:P17) -> 200 | Q18: TOTAL | R18: =SUM(R14:R17) -> 200 | T18: =SUM(T14:T17) -> 124965000 | U18: =SUM(U14:U17) -> 228 | V18: TOTAL | W18: =SUM(W14:W17) -> 228 | Y18: =SUM(Y14:Y17) -> 148845000
E19: 2ND YEAR | F19: 125 | G19: A | H19: 125 | I19: 60000 | J19: =I19*H19 -> 7500000 | K19: 100 | L19: A | M19: 100 | N19: 60000 | O19: =N19*M19 -> 6000000 | P19: 113 | Q19: A | R19: 113 | S19: 60000 | T19: =S19*R19 -> 6780000 | U19: 100 | V19: A | W19: 100 | X19: 60000 | Y19: =X19*W19 -> 6000000
F20: 87 | G20: B | H20: 87 | I20: 1200000 | J20: =I20*H20 -> 104400000 | K20: 70 | L20: B | M20: 70 | N20: 1155000 | O20: =N20*M20 -> 80850000 | P20: 77 | Q20: B | R20: 77 | S20: 1155000 | T20: =S20*R20 -> 88935000 | U20: 70 | V20: B | W20: 70 | X20: 1155000 | Y20: =X20*W20 -> 80850000
F21: 20 | G21: C1 | H21: 20 | I21: 1200000 | J21: =I21*H21 -> 24000000 | K21: 27 | L21: C1 | M21: 27 | N21: 1155000 | O21: =N21*M21 -> 31185000 | P21: 30 | Q21: C1 | R21: 30 | S21: 1155000 | T21: =S21*R21 -> 34650000 | U21: 30 | V21: C | W21: 30 | X21: 1155000 | Y21: =X21*W21 -> 34650000
F22: 18 | G22: C2 | H22: 18 | I22: =J22/H22 -> 1777777.8 | J22: 32000000 | K22: 3 | L22: C2 | M22: 3 | N22: 2310000 | O22: =N22*M22 -> 6930000 | P22: 8 | Q22: C2 | R22: 8 | S22: 2310000 | T22: =S22*R22 -> 18480000
E23: Sub Total | F23: =SUM(F19:F22) -> 250 | G23: TOTAL | H23: =SUM(H19:H22) -> 250 | J23: =SUM(J19:J22) -> 167900000 | K23: =SUM(K19:K22) -> 200 | L23: TOTAL | M23: =SUM(M19:M22) -> 200 | O23: =SUM(O19:O22) -> 124965000 | P23: =SUM(P19:P22) -> 228 | Q23: TOTAL | R23: =SUM(R19:R22) -> 228 | T23: =SUM(T19:T22) -> 148845000 | U23: =SUM(U19:U22) -> 200 | V23: TOTAL | W23: =SUM(W19:W22) -> 200 | Y23: =SUM(Y19:Y22) -> 121500000
E24: 3RD YEAR | F24: 100 | G24: A | H24: 100 | I24: 60000 | J24: =I24*H24 -> 6000000 | K24: 113 | L24: A | M24: 113 | N24: 60000 | O24: =N24*M24 -> 6780000 | P24: 100 | Q24: A | R24: 100 | S24: 60000 | T24: =S24*R24 -> 6000000 | U24: 100 | V24: A | W24: 100 | X24: 60000 | Y24: =W24*X24 -> 6000000
F25: 70 | G25: B | H25: 69 | I25: 1155000 | J25: =I25*H25 -> 79695000 | K25: 77 | L25: B | M25: 77 | N25: 1155000 | O25: =N25*M25 -> 88935000 | P25: 70 | Q25: B | R25: 70 | S25: 1155000 | T25: =S25*R25 -> 80850000 | U25: 69 | V25: B | W25: 69 | X25: 1155000 | Y25: =W25*X25 -> 79695000
F26: 27 | G26: C1 | H26: 27 | I26: 1155000 | J26: =I26*H26 -> 31185000 | K26: 30 | L26: C1 | M26: 30 | N26: 1155000 | O26: =N26*M26 -> 34650000 | P26: 30 | Q26: C | R26: 30 | S26: 1155000 | T26: =S26*R26 -> 34650000 | U26: 31 | V26: C | W26: 30 | X26: 1155000 | Y26: =W26*X26 -> 34650000
F27: 3 | G27: C2 | H27: 3 | I27: 2310000 | J27: =I27*H27 -> 6930000 | K27: 8 | L27: C2 | M27: 8 | N27: 2310000 | O27: =N27*M27 -> 18480000
E28: Sub Total | F28: =SUM(F24:F27) -> 200 | G28: TOTAL | H28: =SUM(H24:H27) -> 199 | J28: =SUM(J24:J27) -> 123810000 | K28: =SUM(K24:K27) -> 228 | L28: TOTAL | M28: =SUM(M24:M27) -> 228 | O28: =SUM(O24:O27) -> 148845000 | P28: =SUM(P24:P27) -> 200 | Q28: TOTAL | R28: =SUM(R24:R27) -> 200 | T28: =SUM(T24:T27) -> 121500000 | U28: =SUM(U24:U27) -> 200 | V28: TOTAL | W28: =SUM(W24:W27) -> 199 | Y28: =SUM(Y24:Y27) -> 120345000
E29: 4TH YEAR | F29: 113 | G29: A | H29: 113 | I29: 60000 | J29: =I29*H29 -> 6780000 | K29: 100 | L29: A | M29: 100 | N29: 60000 | O29: =N29*M29 -> 6000000 | P29: 100 | Q29: A | R29: 100 | S29: 60000 | T29: =S29*R29 -> 6000000 | U29: 100 | V29: A | W29: 100 | X29: 60000 | Y29: =W29*X29 -> 6000000
F30: 77 | G30: B | H30: 77 | I30: 1155000 | J30: =I30*H30 -> 88935000 | K30: 70 | L30: B | M30: 70 | N30: 1155000 | O30: =N30*M30 -> 80850000 | P30: 69 | Q30: B | R30: 69 | S30: 1155000 | T30: =S30*R30 -> 79695000 | U30: 70 | V30: B | W30: 70 | X30: 1155000 | Y30: =W30*X30 -> 80850000
F31: 30 | G31: C1 | H31: 30 | I31: 1155000 | J31: =I31*H31 -> 34650000 | K31: 30 | L31: C | M31: 30 | N31: 1155000 | O31: =N31*M31 -> 34650000 | P31: 31 | Q31: C | R31: 30 | S31: 1155000 | T31: =S31*R31 -> 34650000 | U31: 23 | V31: C1 | W31: 23 | X31: 1155000 | Y31: =W31*X31 -> 26565000
F32: 8 | G32: C2 | H32: 8 | I32: 2310000 | J32: =I32*H32 -> 18480000 | U32: 7 | V32: C2 | W32: 7 | X32: 2310000 | Y32: =W32*X32 -> 16170000
E33: Sub Total | F33: =SUM(F29:F32) -> 228 | G33: TOTAL | H33: =SUM(H29:H32) -> 228 | J33: =SUM(J29:J32) -> 148845000 | K33: =SUM(K29:K32) -> 200 | L33: TOTAL | M33: =SUM(M29:M32) -> 200 | O33: =SUM(O29:O32) -> 121500000 | P33: =SUM(P29:P32) -> 200 | Q33: TOTAL | R33: =SUM(R29:R32) -> 199 | T33: =SUM(T29:T32) -> 120345000 | U33: =SUM(U29:U32) -> 200 | V33: TOTAL | W33: =SUM(W29:W32) -> 200 | Y33: =SUM(Y29:Y32) -> 129585000
E34: 5TH YEAR | F34: 100 | G34: A | H34: 100 | I34: 60000 | J34: =I34*H34 -> 6000000 | K34: 100 | L34: A | M34: 100 | N34: 60000 | O34: =N34*M34 -> 6000000 | P34: 100 | Q34: A | R34: 100 | S34: 60000 | T34: =S34*R34 -> 6000000 | U34: 100 | V34: A | W34: 100 | X34: 60000 | Y34: =W34*X34 -> 6000000
F35: 70 | G35: B | H35: 69 | I35: 1155000 | J35: =I35*H35 -> 79695000 | K35: 69 | L35: B | M35: 69 | N35: 1155000 | O35: =N35*M35 -> 79695000 | P35: 70 | Q35: B | R35: 70 | S35: 1155000 | T35: =S35*R35 -> 80850000 | U35: 70 | V35: B | W35: 70 | X35: 1155000 | Y35: =W35*X35 -> 80850000
F36: 30 | G36: C | H36: 30 | I36: 1155000 | J36: =I36*H36 -> 34650000 | K36: 31 | L36: C | M36: 30 | N36: 1155000 | O36: =N36*M36 -> 34650000 | P36: 23 | Q36: C1 | R36: 23 | S36: 1155000 | T36: =S36*R36 -> 26565000 | U36: 27 | V36: C1 | W36: 27 | X36: 1155000 | Y36: =W36*X36 -> 31185000
E37: Sub Total | P37: 7 | Q37: C2 | R37: 7 | S37: 2310000 | T37: =S37*R37 -> 16170000 | U37: 3 | V37: C2 | W37: 3 | X37: 2310000 | Y37: =W37*X37 -> 6930000
C38: TOTAL | F38: =SUM(F34:F37) -> 200 | G38: TOTAL | H38: =SUM(H34:H37) -> 199 | J38: =SUM(J34:J37) -> 120345000 | K38: =SUM(K34:K37) -> 200 | L38: TOTAL | M38: =SUM(M34:M37) -> 199 | O38: =SUM(O34:O37) -> 120345000 | P38: =SUM(P34:P37) -> 200 | Q38: TOTAL | R38: =SUM(R34:R37) -> 200 | T38: =SUM(T34:T37) -> 129585000 | U38: =SUM(U34:U37) -> 200 | V38: TOTAL | W38: =SUM(W34:W37) -> 200 | Y38: =SUM(Y34:Y37) -> 124965000
C39: POST-GRADUATE COURSE: | F39: =F38+F33+F28+F23+F18 -> 1128 | H39: =H38+H33+H28+H23+H18 -> 1126 | J39: =J38+J33+J28+J23+J18 -> 732800000 | K39: =K38+K33+K28+K23+K18 -> 1078 | M39: =M38+M33+M28+M23+M18 -> 1077 | O39: =O38+O33+O28+O23+O18 -> 683555000 | P39: =P38+P33+P28+P23+P18 -> 1028 | R39: =R38+R33+R28+R23+R18 -> 1027 | T39: =T38+T33+T28+T23+T18 -> 645240000 | U39: =U38+U33+U28+U23+U18 -> 1028 | W39: =W38+W33+W28+W23+W18 -> 1027 | Y39: =Y38+Y33+Y28+Y23+Y18 -> 645240000
C40: 2 | D40: =+'[1]GEN INFO'!E57 -> CLINICAL DEGREE
D41: ENT
E42: IST YEAR | F42: 1 | G42: Competent Authourity | H42: 1 | I42: =J42/H42 -> 750000 | J42: 750000 | K42: 1 | L42: Competent Authourity | M42: 1 | N42: =O42/M42 -> 450000 | O42: 450000 | P42: 1 | Q42: Competent Authourity | R42: 1 | S42: =T42/R42 -> 375000 | T42: 375000 | U42: 1 | V42: Competent Authourity | W42: 1 | X42: =Y42/W42 -> 375000 | Y42: 375000
F43: 1 | G43: Management seats | H43: 1 | I43: =J43/H43 -> 2300000 | J43: 2300000 | K43: 1 | L43: Management seats | M43: 1 | N43: =O43/M43 -> 2300000 | O43: 2300000 | P43: 1 | Q43: Management seats | R43: 1 | S43: =T43/R43 -> 1380000 | T43: 1380000 | U43: 1 | V43: Management seats | W43: 1 | X43: =Y43/W43 -> 1380000 | Y43: 1380000
E44: 2ND YEAR | F44: 1 | G44: Competent Authourity | H44: 1 | I44: =J44/H44 -> 450000 | J44: 450000 | K44: 1 | L44: Competent Authourity | M44: 1 | N44: =O44/M44 -> 375000 | O44: 375000 | P44: 1 | Q44: Competent Authourity | R44: 1 | S44: =T44/R44 -> 375000 | T44: 375000 | U44: 1 | V44: Competent Authourity | W44: 1 | X44: =Y44/W44 -> 375000 | Y44: 375000
...

Sheet SCH-2
E2: NAME OF THE COLLEGE PRATHIMA INSTITUTE OF MEDICAL SCIENCES
H3: SCHEDULE-2
B4: STATEMENT OF INCOME FROM PATIENTS OF THE INSTITUTION FOR THE FINANCIAL YEAR 2023-24 & 2024-25
I5: Amount in Rs.
B6: PARTICULARS | F6: FINANCIAL YEARS 2023-24 & 2024-25
F7: COURSES OFFERED
F8: M.B.B.S | H8: PG
F9: FOR THE PERIOD FROM 01/04/2024 TO 31/03/2025 (2024-25) | G9: FOR THE PERIOD FROM 01/04/2023 TO 31/03/2024 ( 2023-24) | H9: FOR THE PERIOD FROM 01/04/2024 TO 31/03/2025 (2024-25) | I9: FOR THE PERIOD FROM 01/04/2023 TO 31/03/2024 (2023-24)
B12: (1) | C12: Fee From Patients:
B13: a) | C13: In Patents | F13: 51140188 | G13: 41806496 | H13: 17576601 | I13: 15022390
B14: b) | C14: Out Patents | F14: 3201226.2 | G14: 2702755 | H14: 1100243.8 | I14: 971184.96
B15: c) | C15: Investigation Charges (Blood Tests, ECG, X-ray, CTC, MRI, Culture etc., | F15: 35591243 | G15: 29189244 | H15: 12232514 | I15: 10488614
B16: d) | C16: Other Charges from Patients (Specify with details)
B17: (2) | C17: Total Fee from Patients (a)+(b)+(c)+(d) | F17: =SUM(F13:F16) -> 89932656 | G17: =SUM(G13:G16) -> 73698496 | H17: =SUM(H13:H16) -> 30909359 | I17: =SUM(I13:I16) -> 26482189
B19: (3) | C19: Aarogyasri Receipts | F19: 94044848 | G19: 79507083 | H19: 32322696 | I19: 28569398
B21: (4) | C21: Any other Fee (Specify with Details)
E22: Other Schemes | F22: 12935510 | G22: 13561530 | H22: 4445863.4 | I22: 4873084.4
E23: Sale of Medicines | F23: 16257074 | G23: 15785460 | H23: 5587466.7 | I23: 5672212.7
B25: (5) GRAND TOTAL (2)+(3)+(4) | F25: =SUM(F19:F24) -> 1.2323743e+08 | G25: =SUM(G19:G24) -> 1.0885407e+08 | H25: =SUM(H19:H24) -> 42356026 | I25: =SUM(I19:I24) -> 39114695

Sheet SCH-3
B2: ='SCH-2'!E2 -> NAME OF THE COLLEGE PRATHIMA INSTITUTE OF MEDICAL SCIENCES
G3: SCHEDULE-3
B4: STATEMENT OF OTHER INCOME OF THE INSTITUTION FOR THE FINANCIAL YEAR 2023-24 & 2024-25
H5: Amount in Rs.
B6: PARTICULARS | E6: FINANCIAL YEAR 2023-24 & 2024-25 | G6: FINANCIAL YEAR 2023-24 & 2024-25
E7: COURSES OFFERED
E8: M.B.B.S | G8: PG
E9: FOR THE PERIOD FROM 01/04/2024 TO 31/03/2025 (2024-25) | F9: FOR THE PERIOD FROM 01/04/2023 TO 31/03/2024 (2023-24) | G9: FOR THE PERIOD FROM 01/04/2024 TO 31/03/2025 (2024-25) | H9: FOR THE PERIOD FROM 01/04/2023 TO 31/03/2024 (2023-24)
C11: Interest Received
C12: College Bus Fee Collections
C13: Interest on FDRs | E13: 24172336 | F13: 21844019 | G13: 8307898.8 | H13: 7849243.4
C14: Interest on Electricity Deposits | E14: 629072.31 | F14: 23988.998 | G14: 216208.69 | H14: 8620.002
C15: Surplus from Seminars
C16: Donations and Contributions
C17: Miscellaneous Income | E17: 1408031.4 | F17: 22906887 | G17: 483932.64 | H17: 8231165.4
C18: Any other income (Specify Head wise)
D19: Hostel / Other Fee | E19: 1.0834883e+08 | F19: 99747235 | G19: 37238898 | H19: 35842321
B20: TOTAL | E20: =SUM(E11:E19) -> 1.3455827e+08 | F20: =SUM(F11:F19) -> 1.4452213e+08 | G20: =SUM(G11:G19) -> 46246938 | H20: =SUM(H11:H19) -> 51931350

Sheet SCH-4
B2: NAME OF THE INSTITUTION PRATHIMA INSTITUTE OF MEDICAL SCIENCES
B4: DETAILS OF DEPARTMENT (Clinical) WISE ELIGIBLE TEACHING STAFF FOR THE PERIOD 2023-24 AND 2024-25 | AD4: SCHEDULE -4
B5: (please furnish the details department wIse course wise as per the following departments)
B6: 1. Department of General Medicine (a) General Medicine; (b) Tuberculosis & Respiratory Dieases; (c) Dermatology Venereology & Leprosy; (d) Psychiatry; & (e) Other ancillary Staff
B7: 2. Department of Paediatrics; 3. Department of General Surgery; 4. Department of Orthopaedics; 5. Depatment of OTO-RHINO-LARYGOLOGY; 6. Department of Opththalmology; 7. Depatment of Obstetrics and Gynaecology; 8. Depatment of Radio-Diagnosis; 9. Depatment of Anaesthesology; 10. Department of Detistry;
B9: DETAILS OF DEPARTMENT (Clinical) WISE ELIGIBLE TEACHING STAFF FOR THE PERIOD FROM 01/04/2023 TO 31/03/2024 (2023-24)
B10: =+'[2]SCH-1'!D14 -> M.B.B.S | AD10: AMOUNT IN Rs.
B12: S. No. | C12: EMPLOYEE NAME | D12: PAN No. | E12: AADHAR NO. | F12: DATE OF BIRTH | G12: QUALIFICATION | H12: WHETHER THE EMPLOYEE POSSESSES THE EQUIVALENT QUALIFICATION | I12: BRANCH | J12: DESIGNATION | K12: DATE OF APPOINTMENT TO DESIGNATION | L12: Vth PAY SCALE/ VIth PAY SCALE/ OTHERS | M12: PAY SCALE (BAND) | N12: FOR 01/04/2023 TO 31/03/2024 | V12: PREVIOUS YEARS ARREARS PAID (IF ANY) | W12: PF CONTRIBUTION | Y12: ESI CONTRIBUTION | AA12: PROF. TAX | AB12: TDS | AC12: OTHER DEDUCTIONS | AD12: TOTAL DEDUCTIONS | AE12: NET SALARY | AF12: GRATUITY CONTRIBUTION | AG12: BANK DETAILS IN WHICH SALARY IS BEING CREDITED
N13: BASIC PAY (including AGP) | O13: DA | P13: HRA | Q13: CCA | R13: OTHERS | S13: TOTAL | T13: ARREARS (2023-24) | U13: GROSS SALARY | W13: EMPLOYEE | X13: EMPLOYER | Y13: EMPLOYEE | Z13: EMPLOYER | AG13: NAME | AH13: Account No. | AI13: IFSC
B14: 1 | C14: 2 | D14: 3 | E14: 4 | F14: 5 | G14: 6 | H14: 7 | I14: 8 | J14: 9 | K14: 10 | L14: 11 | M14: 12 | N14: 13 | O14: 14 | P14: 15 | Q14: 16 | R14: 17 | S14: 18 = 13+14+15+16+17) | T14: 19 | U14: 20=(18+19) | V14: 21 | W14: 22 | X14: 23 | Y14: 24 | Z14: 25 | AA14: 26 | AB14: 27 | AC14: 28 | AD14: 29= (22+24+26+27+28) | AE14: 30=(18-29) | AF14: 31 | AG14: 32 | AH14: 33 | AI14: 34
B15: 1 | C15: AJAY KUMAR KHANDAL | D15: BMBPK7248C | E15: 749475583832 | F15: 27918 | G15: MD | H15: YES | I15: GENERAL MEDICINE | J15: ASSOC PROF | K15: 41244 | L15: OTHERS | M15: - | N15: 399000 | O15: 0 | P15: 0 | Q15: 0 | R15: 21000 | S15: =SUM(N15:R15) -> 420000 | T15: 0 | U15: =S15+T15 -> 420000 | V15: 0 | W15: 0 | X15: 0 | Y15: 0 | Z15: 0 | AA15: 2400 | AB15: 0 | AC15: 0 | AD15: =W15+Y15+AA15+AB15+AC15 -> 2400 | AE15: =U15-AD15 -> 417600 | AF15: 0 | AG15: South India Bank | AH15: 628053000000852 | AI15: SIBL0000628
B16: =B15+1 -> 2 | C16: VIJAYA BHARATHI G | D16: AELPB5900K | E16: 218394258404 | F16: 26431 | G16: MS | H16: YES | I16: GYNAECOLOGY | J16: ASSOC PROF | K16: 41244 | L16: OTHERS | M16: - | N16: 480000 | O16: 0 | P16: 0 | Q16: 0 | R16: 960000 | S16: =SUM(N16:R16) -> 1440000 | T16: 0 | U16: =S16+T16 -> 1440000 | V16: 0 | W16: 0 | X16: 0 | Y16: 0 | Z16: 0 | AA16: 2400 | AB16: 133120 | AC16: 0 | AD16: =W16+Y16+AA16+AB16+AC16 -> 135520 | AE16: =U16-AD16 -> 1304480 | AF16: 0 | AG16: Union Bank Of India | AH16: 214810100068001 | AI16: UBIN0821489
B17: =B16+1 -> 3 | C17: ANIL KUMAR D | D17: AFQPD6830C | E17: 923645468837 | F17: 26599 | G17: MS | H17: YES | I17: GENERAL SURGERY | J17: ASSOC PROF | K17: 41244 | L17: OTHERS | M17: - | N17: 480000 | O17: 0 | P17: 0 | Q17: 0 | R17: 960000 | S17: =SUM(N17:R17) -> 1440000 | T17: 0 | U17: =S17+T17 -> 1440000 | V17: 0 | W17: 0 | X17: 0 | Y17: 0 | Z17: 0 | AA17: 2400 | AB17: 133120 | AC17: 0 | AD17: =W17+Y17+AA17+AB17+AC17 -> 135520 | AE17: =U17-AD17 -> 1304480 | AF17: 0 | AG17: Union Bank Of India | AH17: 214810100068010 | AI17: UBIN0821489
B18: =B17+1 -> 4 | C18: PRESHIT GADDAM | D18: AQVPG4480B | E18: 947899421146 | F18: 28268 | G18: MS | H18: YES | I18: ORTHOPAEDICS | J18: ASSOC PROF | K18: 41365 | L18: OTHERS | M18: - | N18: 120000 | O18: 0 | P18: 0 | Q18: 0 | R18: 240000 | S18: =SUM(N18:R18) -> 360000 | T18: 0 | U18: =S18+T18 -> 360000 | V18: 0 | W18: 0 | X18: 0 | Y18: 0 | Z18: 0 | AA18: 600 | AB18: 40262 | AC18: 0 | AD18: =W18+Y18+AA18+AB18+AC18 -> 40862 | AE18: =U18-AD18 -> 319138 | AF18: 0 | AG18: Union Bank Of India | AH18: 214810100068153 | AI18: UBIN0821489
B19: =B18+1 -> 5 | C19: VIJAY KUMAR CH | D19: AFRPV7152C | E19: 491332810837 | F19: 28793 | G19: MDS | H19: YES | I19: DENTISTRY | J19: ASSOC PROF | K19: 41395 | L19: OTHERS | M19: - | N19: 480000 | O19: 0 | P19: 0 | Q19: 0 | R19: 960000 | S19: =SUM(N19:R19) -> 1440000 | T19: 0 | U19: =S19+T19 -> 1440000 | V19: 0 | W19: 0 | X19: 0 | Y19: 0 | Z19: 0 | AA19: 2400 | AB19: 133120 | AC19: 0 | AD19: =W19+Y19+AA19+AB19+AC19 -> 135520 | AE19: =U19-AD19 -> 1304480 | AF19: 0 | AG19: Union Bank Of India | AH19: 214810100066766 | AI19: UBIN0821489
B20: =B19+1 -> 6 | C20: VIKRAM KUMAR V | D20: AESPV7033G | E20: 256861708734 | F20: 29981 | G20: MDS | H20: YES | I20: DENTISTRY | J20: ASSOC PROF | K20: 41426 | L20: OTHERS | M20: - | N20: 480000 | O20: 0 | P20: 0 | Q20: 0 | R20: 960000 | S20: =SUM(N20:R20) -> 1440000 | T20: 0 | U20: =S20+T20 -> 1440000 | V20: 0 | W20: 0 | X20: 0 | Y20: 0 | Z20: 0 | AA20: 2400 | AB20: 133120 | AC20: 0 | AD20: =W20+Y20+AA20+AB20+AC20 -> 135520 | AE20: =U20-AD20 -> 1304480 | AF20: 0 | AG20: Union Bank Of India | AH20: 214810100066720 | AI20: UBIN0821489
B21: =B20+1 -> 7 | C21: REDDY PRASAD | D21: AMEPG3732B | E21: 692311342253 | F21: 28795 | G21: MD | H21: YES | I21: GENERAL MEDICINE | J21: ASSOC PROF | K21: 41671 | L21: OTHERS | M21: - | N21: 360000 | O21: 0 | P21: 0 | Q21: 0 | R21: 840000 | S21: =SUM(N21:R21) -> 1200000 | T21: 0 | U21: =S21+T21 -> 1200000 | V21: 0 | W21: 0 | X21: 0 | Y21: 0 | Z21: 0 | AA21: 2400 | AB21: 85800 | AC21: 0 | AD21: =W21+Y21+AA21+AB21+AC21 -> 88200 | AE21: =U21-AD21 -> 1111800 | AF21: 0 | AG21: Union Bank Of India | AH21: 214810100067367 | AI21: UBIN0821489
B22: =B21+1 -> 8 | C22: A. SANJEEV KUMAR | D22: AKMPA4616L | E22: 484654450240 | F22: 28701 | G22: M.Ch | H22: YES | I22: GENERAL SURGERY | J22: ASSOC PROF | K22: 42307 | L22: OTHERS | M22: - | N22: 600000 | O22: 0 | P22: 0 | Q22: 0 | R22: 1800000 | S22: =SUM(N22:R22) -> 2400000 | T22: 0 | U22: =S22+T22 -> 2400000 | V22: 0 | W22: 0 | X22: 0 | Y22: 0 | Z22: 0 | AA22: 2400 | AB22: 421200 | AC22: 0 | AD22: =W22+Y22+AA22+AB22+AC22 -> 423600 | AE22: =U22-AD22 -> 1976400 | AF22: 0 | AG22: Union Bank Of India | AH22: 610002010011696 | AI22: UBIN0815837
B23: =B22+1 -> 9 | C23: SRIVANI MECHINENI | D23: DFEPM3097H | E23: 454527555950 | F23: 32048 | G23: MD | H23: YES | I23: ANAESTHESIOLOGY | J23: ASSOC PROF | K23: 42842 | L23: OTHERS | M23: - | N23: 366097 | O23: 0 | P23: 0 | Q23: 0 | R23: 386097 | S23: =SUM(N23:R23) -> 752194 | T23: 0 | U23: =S23+T23 -> 752194 | V23: 0 | W23: 0 | X23: 0 | Y23: 0 | Z23: 0 | AA23: 2400 | AB23: 18157 | AC23: 0 | AD23: =W23+Y23+AA23+AB23+AC23 -> 20557 | AE23: =U23-AD23 -> 731637 | AF23: 0 | AG23: Union Bank Of India | AH23: 610002010005763 | AI23: UBIN0815837
B24: =B23+1 -> 10 | C24: SHRAVAN KUMAR R | D24: BZWPR5657Q | E24: 984750947419 | F24: 31693 | G24: MD DNB | H24: YES | I24: E N T | J24: ASSOC PROF | K24: 42917 | L24: OTHERS | M24: - | N24: 284516 | O24: 0 | P24: 0 | Q24: 0 | R24: 569033 | S24: =SUM(N24:R24) -> 853549 | T24: 0 | U24: =S24+T24 -> 853549 | V24: 0 | W24: 0 | X24: 0 | Y24: 0 | Z24: 0 | AA24: 2000 | AB24: 52761 | AC24: 0 | AD24: =W24+Y24+AA24+AB24+AC24 -> 54761 | AE24: =U24-AD24 -> 798788 | AF24: 0 | AG24: Union Bank Of India | AH24: 610002010013276 | AI24: UBIN0815837
B25: =B24+1 -> 11 | C25: G.VENKAT REDDY | D25: BQZPG6858C | E25: 437526276666 | F25: 30851 | G25: MD | H25: YES | I25: GENERAL MEDICINE | J25: ASSOC PROF | K25: 43070 | L25: OTHERS | M25: - | N25: 480000 | O25: 0 | P25: 0 | Q25: 0 | R25: 960000 | S25: =SUM(N25:R25) -> 1440000 | T25: 0 | U25: =S25+T25 -> 1440000 | V25: 0 | W25: 0 | X25: 0 | Y25: 0 | Z25: 0 | AA25: 2400 | AB25: 133120 | AC25: 0 | AD25: =W25+Y25+AA25+AB25+AC25 -> 135520 | AE25: =U25-AD25 -> 1304480 | AF25: 0 | AG25: Union Bank Of India | AH25: 214810100039984 | AI25: UBIN0821489
B26: =B25+1 -> 12 | C26: A.SAILAJA | D26: AHEPA0405A | E26: 851912189726 | F26: 31263 | G26: MS | H26: YES | I26: GENERAL SURGERY | J26: ASSOC PROF | K26: 43070 | L26: OTHERS | M26: - | N26: 480000 | O26: 0 | P26: 0 | Q26: 0 | R26: 960000 | S26: =SUM(N26:R26) -> 1440000 | T26: 0 | U26: =S26+T26 -> 1440000 | V26: 0 | W26: 0 | X26: 0 | Y26: 0 | Z26: 0 | AA26: 2400 | AB26: 133120 | AC26: 0 | AD26: =W26+Y26+AA26+AB26+AC26 -> 135520 | AE26: =U26-AD26 -> 1304480 | AF26: 0 | AG26: Union Bank Of India | AH26: 214810100066775 | AI26: UBIN0821489
B27: =B26+1 -> 13 | C27: P.SWETHA | D27: BKTPP4089G | E27: 555593163219 | F27: 31568 | G27: MS | H27: YES | I27: OPHTHALMOLOGY | J27: ASSOC PROF | K27: 43070 | L27: OTHERS | M27: - | N27: 480000 | O27: 0 | P27: 0 | Q27: 0 | R27: 1050000 | S27: =SUM(N27:R27) -> 1530000 | T27: 0 | U27: =S27+T27 -> 1530000 | V27: 0 | W27: 0 | X27: 0 | Y27: 0 | Z27: 0 | AA27: 2400 | AB27: 151840 | AC27: 0 | AD27: =W27+Y27+AA27+AB27+AC27 -> 154240 | AE27: =U27-AD27 -> 1375760 | AF27: 0 | AG27: Union Bank Of India | AH27: 214810100066863 | AI27: UBIN0821489
... B48: =B47+1 -> 34 | C48: SRIKANTH SAGI | D48: CQMPS1953C | E48: 994926676974 | F48: 28711 | G48: MD | H48: YES | I48: RADIOLOGY | J48: ASSOC PROF | K48: 44750 | L48: OTHERS | M48: - | N48: 480000 | O48: 0 | P48: 0 | Q48: 0 | R48: 1645000 | S48: =SUM(N48:R48) -> 2125000 | T48: 0 | U48: =S48+T48 -> 2125000 | V48: 0 | W48: 0 | X48: 0 | Y48: 0 | Z48: 0 | AA48: 2400 | AB48: 335400 | AC48: 0 | AD48: =W48+Y48+AA48+AB48+AC48 -> 337800 | AE48: =U48-AD48 -> 1787200 | AF48: 0 | AG48: Union Bank Of India | AH48: 214812010000799 | AI48: UBIN0821489
B49: =B48+1 -> 35 | C49: RANGA SANGEETHA | D49: AKBPR3833M | E49: 925375277752 | F49: 31102 | G49: MD | H49: YES | I49: GENERAL SURGERY | J49: ASSOC PROF | K49: 44760 | L49: OTHERS | M49: - | N49: 349161 | O49: 0 | P49: 0 | Q49: 0 | R49: 698324 | S49: =SUM(N49:R49) -> 1047485 | T49: 0 | U49: =S49+T49 -> 1047485 | V49: 0 | W49: 0 | X49: 0 | Y49: 0 | Z49: 0 | AA49: 2400 | AB49: 62007.66 | AC49: 0 | AD49: =W49+Y49+AA49+AB49+AC49 -> 64407.66 | AE49: =U49-AD49 -> 983077.34 | AF49: 0 | AG49: Union Bank Of India | AH49: 52210100023008 | AI49: 0
B50: =B49+1 -> 36 | C50: A.RAGHU RAMA REDDY | D50: BDGPA1549A | E50: 701949086488 | F50: 33359 | G50: MD | H50: YES | I50: GENERAL MEDICINE | J50: ASSOC PROF | K50: 44951 | L50: OTHERS | M50: - | N50: 360000 | O50: 0 | P50: 0 | Q50: 0 | R50: 840000 | S50: =SUM(N50:R50) -> 1200000 | T50: 0 | U50: =S50+T50 -> 1200000 | V50: 0 | W50: 0 | X50: 0 | Y50: 0 | Z50: 0 | AA50: 2400 | AB50: 85800 | AC50: 425 | AD50: =W50+Y50+AA50+AB50+AC50 -> 88625 | AE50: =U50-AD50 -> 1111375 | AF50: 0 | AG50: Union Bank Of India | AH50: 610002010014266 | AI50: UBIN0815837
B51: =B50+1 -> 37 | C51: SHOAIBUDDIN MOHAMMAD | D51: BESPM6575F | E51: 946239401749 | F51: 31322 | G51: MS | H51: YES | I51: GENERAL SURGERY | J51: ASSOC PROF | K51: 45001 | L51: OTHERS | M51: - | N51: 359032 | O51: 0 | P51: 0 | Q51: 0 | R51: 957420 | S51: =SUM(N51:R51) -> 1316452 | T51: 0 | U51: =S51+T51 -> 1316452 | V51: 0 | W51: 0 | X51: 0 | Y51: 0 | Z51: 0 | AA51: 2400 | AB51: 107422.02 | AC51: 0 | AD51: =W51+Y51+AA51+AB51+AC51 -> 109822.02 | AE51: =U51-AD51 -> 1206630 | AF51: 0 | AG51: Union Bank Of India | AH51: 52812010000190 | AI51: 0
B52: =B51+1 -> 38 | C52: CH. JAGAN MOHAN RAO | D52: AEWPC8452N | E52: 959993162824 | F52: 17945 | G52: MBBS DO | H52: YES | I52: OPHTHALMOLOGY | J52: ASST PROF | K52: 37712 | L52: OTHERS | M52: - | N52: 299194 | O52: 0 | P52: 0 | Q52: 0 | R52: 598387 | S52: =SUM(N52:R52) -> 897581 | T52: 0 | U52: =S52+T52 -> 897581 | V52: 0 | W52: 0 | X52: 0 | Y52: 0 | Z52: 0 | AA52: 2400 | AB52: 41348.424 | AC52: 0 | AD52: =W52+Y52+AA52+AB52+AC52 -> 43748.424 | AE52: =U52-AD52 -> 853832.58 | AF52: 0 | AG52: Union Bank Of India | AH52: 328002011000567 | AI52: UBIN0532801
B53: =B52+1 -> 39 | C53: VENKATA RAMESH K | D53: AOOPK0294E | E53: 486779244398 | F53: 27915 | G53: MD | H53: YES | I53: ANAESTHESIOLOGY | J53: ASST PROF | K53: 39554 | L53: OTHERS | M53: - | N53: 305000 | O53: 0 | P53: 0 | Q53: 0 | R53: 975000 | S53: =SUM(N53:R53) -> 1280000 | T53: 0 | U53: =S53+T53 -> 1280000 | V53: 0 | W53: 0 | X53: 0 | Y53: 0 | Z53: 0 | AA53: 2400 | AB53: 99840 | AC53: 0 | AD53: =W53+Y53+AA53+AB53+AC53 -> 102240 | AE53: =U53-AD53 -> 1177760 | AF53: 0 | AG53: Union Bank Of India | AH53: 328002010019424 | AI53: UBIN0532801
B54: =B53+1 -> 40 | C54: SANJAY KUMAR N D | D54: AFSPN7271H | E54: 832164181424 | F54: 26812 | G54: MBBS DPM | H54: YES | I54: PSYCHIATRY | J54: ASST PROF | K54: 40771 | L54: OTHERS | M54: - | N54: 303361 | O54: 0 | P54: 0 | Q54: 0 | R54: 900080 | S54: =SUM(N54:R54) -> 1203441 | T54: 0 | U54: =S54+T54 -> 1203441 | V54: 0 | W54: 0 | X54: 0 | Y54: 0 | Z54: 0 | AA54: 2400 | AB54: 91016.796 | AC54: 27889.5 | AD54: =W54+Y54+AA54+AB54+AC54 -> 121306.3 | AE54: =U54-AD54 -> 1082134.7 | AF54: 0 | AG54: Union Bank Of India | AH54: 610002010006385 | AI54: UBIN0815837
B55: =B54+1 -> 41 | C55: SUHASINI E | D55: AAZPE0828M | E55: 685440397099 | F55: 29082 | G55: MS | H55: YES | I55: GYNAECOLOGY | J55: ASST PROF | K55: 41122 | L55: OTHERS | M55: - | N55: 358064 | O55: 0 | P55: 0 | Q55: 0 | R55: 358065 | S55: =SUM(N55:R55) -> 716129 | T55: 0 | U55: =S55+T55 -> 716129 | V55: 0 | W55: 0 | X55: 0 | Y55: 0 | Z55: 0 | AA55: 2400 | AB55: 0 | AC55: 0 | AD55: =W55+Y55+AA55+AB55+AC55 -> 2400 | AE55: =U55-AD55 -> 713729 | AF55: 0 | AG55: ICICI Bank | AH55: 236201502666 | AI55: ICIC0002362
B56: =B55+1 -> 42 | C56: MYTHREAI BOORLA | D56: BMMPB8453P | E56: 925380621867 | F56: 29379 | G56: MBBS DGO | H56: YES | I56: GYNAECOLOGY | J56: ASST PROF | K56: 41570 | L56: OTHERS | M56: - | N56: 300000 | O56: 0 | P56: 0 | Q56: 0 | R56: 805000 | S56: =SUM(N56:R56) -> 1105000 | T56: 0 | U56: =S56+T56 -> 1105000 | V56: 0 | W56: 0 | X56: 0 | Y56: 0 | Z56: 0 | AA56: 2400 | AB56: 70980 | AC56: 0 | AD56: =W56+Y56+AA56+AB56+AC56 -> 73380 | AE56: =U56-AD56 -> 1031620 | AF56: 0 | AG56: Union Bank Of India | AH56: 610002010009754 | AI56: UBIN0815837
B57: =B56+1 -> 43 | C57: PAVAN KUMAR E | D57: ATGPP6368M | E57: 303764100691 | F57: 28469 | G57: MD | H57: YES | I57: PAEDIATRICS | J57: ASST PROF | K57: 41671 | L57: OTHERS | M57: - | N57: 360000 | O57: 0 | P57: 0 | Q57: 0 | R57: 840000 | S57: =SUM(N57:R57) -> 1200000 | T57: 0 | U57: =S57+T57 -> 1200000 | V57: 0 | W57: 0 | X57: 0 | Y57: 0 | Z57: 0 | AA57: 2400 | AB57: 85800 | AC57: 0 | AD57: =W57+Y57+AA57+AB57+AC57 -> 88200 | AE57: =U57-AD57 -> 1111800 | AF57: 0 | AG57: Union Bank Of India | AH57: 214810100067057 | AI57: UBIN0821489
B58: =B57+1 -> 44 | C58: VAMSHIDHAR B | D58: CBTPB5334A | E58: 696099375046 | F58: 30782 | G58: MDS | H58: YES | I58: DENTISTRY | J58: ASST PROF | K58: 41850 | L58: OTHERS | M58: - | N58: 327577 | O58: 0 | P58: 0 | Q58: 0 | R58: 327577 | S58: =SUM(N58:R58) -> 655154 | T58: 0 | U58: =S58+T58 -> 655154 | V58: 0 | W58: 0 | X58: 0 | Y58: 0 | Z58: 0 | AA58: 2400 | AB58: 0 | AC58: 0 | AD58: =W58+Y58+AA58+AB58+AC58 -> 2400 | AE58: =U58-AD58 -> 652754 | AF58: 0 | AG58: Union Bank Of India | AH58: 610002010010300 | AI58: UBIN0815837
B59: =B58+1 -> 45 | C59: SHIVA KUMAR R | D59: BKDPR7828F | E59: 579947104464 | F59: 29314 | G59: MD | H59: YES | I59: PSYCHIATRY | J59: ASST PROF | K59: 42614 | L59: OTHERS | M59: - | N59: 490000 | O59: 0 | P59: 0 | Q59: 0 | R59: 1040000 | S59: =SUM(N59:R59) -> 1530000 | T59: 0 | U59: =S59+T59 -> 1530000 | V59: 0 | W59: 0 | X59: 0 | Y59: 0 | Z59: 0 | AA59: 2400 | AB59: 151840 | AC59: 0 | AD59: =W59+Y59+AA59+AB59+AC59 -> 154240 | AE59: =U59-AD59 -> 1375760 | AF59: 0 | AG59: Union Bank Of India | AH59: 214810100069028 | AI59: UBIN0821489
B60: =B59+1 -> 46 | C60: MANOJ KUMAR | D60: AFXPB4770Q | E60: 554955144699 | F60: 29162 | G60: MD | H60: YES | I60: GENERAL MEDICINE | J60: ASST PROF | K60: 43070 | L60: OTHERS | M60: - | N60: 360000 | O60: 0 | P60: 0 | Q60: 0 | R60: 840000 | S60: =SUM(N60:R60) -> 1200000 | T60: 0 | U60: =S60+T60 -> 1200000 | V60: 0 | W60: 0 | X60: 0 | Y60: 0 | Z60: 0 | AA60: 2400 | AB60: 85800 | AC60: 0 | AD60: =W60+Y60+AA60+AB60+AC60 -> 88200 | AE60: =U60-AD60 -> 1111800 | AF60: 0 | AG60: Union Bank Of India | AH60: 214810100066748 | AI60: UBIN0821489
B61: =B60+1 -> 47 | C61: J.MAHENDER | D61: BAIPJ0642J | E61: 306664207798 | F61: 30446 | G61: MS | H61: YES | I61: GENERAL SURGERY | J61: ASST PROF | K61: 43070 | L61: OTHERS | M61: - | N61: 60000 | O61: 0 | P61: 0 | Q61: 0 | R61: 140000 | S61: =SUM(N61:R61) -> 200000 | T61: 0 | U61: =S61+T61 -> 200000 | V61: 0 | W61: 0 | X61: 0 | Y61: 0 | Z61: 0 | AA61: 400 | AB61: 0 | AC61: 0 | AD61: =W61+Y61+AA61+AB61+AC61 -> 400 | AE61: =U61-AD61 -> 199600 | AF61: 0 | AG61: Union Bank Of India | AH61: 214810100066836 | AI61: UBIN0821489
B62: =B61+1 -> 48 | C62: N.VIDYASAGAR REDDY | D62: DDVPS9270K | E62: 243451460243 | F62: 31644 | G62: MD | H62: YES | I62: PAEDIATRICS | J62: ASST PROF | K62: 43070 | L62: OTHERS | M62: - | N62: 360000 | O62: 0 | P62: 0 | Q62: 0 | R62: 840000 | S62: =SUM(N62:R62) -> 1200000 | T62: 0 | U62: =S62+T62 -> 1200000 | V62: 0 | W62: 0 | X62: 0 | Y62: 0 | Z62: 0 | AA62: 2400 | AB62: 85800 | AC62: 0 | AD62: =W62+Y62+AA62+AB62+AC62 -> 88200 | AE62: =U62-AD62 -> 1111800 | AF62: 0 | AG62: Union Bank Of India | AH62: 214810100067303 | AI62: UBIN0821489
B63: =B62+1 -> 49 | C63: VELIMALA SWAROOPA | D63: AVXPV3768J | E63: 906503084368 | F63: 33095 | G63: MD | H63: YES | I63: ANAESTHESIOLOGY | J63: ASST PROF | K63: 43286 | L63: OTHERS | M63: - | N63: 53226 | O63: 0 | P63: 0 | Q63: 0 | R63: 70968 | S63: =SUM(N63:R63) -> 124194 | T63: 0 | U63: =S63+T63 -> 124194 | V63: 0 | W63: 0 | X63: 0 | Y63: 0 | Z63: 0 | AA63: 400 | AB63: 0 | AC63: 0 | AD63: =W63+Y63+AA63+AB63+AC63 -> 400 | AE63: =U63-AD63 -> 123794 | AF63: 0 | AG63: Union Bank Of India | AH63: 610002010013772 | AI63: UBIN0815837
... B79: =B78+1 -> 65 | C79: GADDALA SRUTHI | D79: BVCPG9667D | E79: 615589858796 | F79: 33430 | G79: MS | H79: YES | I79: E N T | J79: ASST PROF | K79: 44914 | L79: OTHERS | M79: - | N79: 51290 | O79: 0 | P79: 0 | Q79: 0 | R79: 68387 | S79: =SUM(N79:R79) -> 119677 | T79: 0 | U79: =S79+T79 -> 119677 | V79: 0 | W79: 0 | X79: 0 | Y79: 0 | Z79: 0 | AA79: 400 | AB79: 0 | AC79: 0 | AD79: =W79+Y79+AA79+AB79+AC79 -> 400 | AE79: =U79-AD79 -> 119277 | AF79: 0 | AG79: Union Bank Of India | AH79: 610002010009747 | AI79: UBIN0815837
...

Sheet SCH-5
B2: NAME OF THE INSTITUTION PRATHIMA INSTITUTE OF MEDICAL SCIENCES
B3: DETAILS OF DEPARTMENT (Non-Clinical) WISE ELIGIBLE TEACHING STAFF FOR THE PERIOD 2023-24 AND 2024-25 | AD3: SCHEDULE -5
B4: (please furnish the details department wase course wise as per the following departments)
B5: 1. Department of Anatomy; 2. Department of Physiology; 3. Department of Biochemistry; 4. Department of Patholgy; 5. Department of Microbiology; 6. Department of Pharmacology; 7. Department of Forensic Medicine; 8. Department of Communy Medicine; 9. Rural Training Health Centre; 10. Urban Training Health Centre
B7: DETAILS OF DEPARTMENT (Non-Clinical) WISE ELIGIBLE TEACHING STAFF FOR THE PERIOD FOR 2023-24
B8: =+'[2]SCH-1'!D14 -> M.B.B.S | AD8: AMOUNT IN Rs.
B10: S. No. | C10: EMPLOYEE NAME | D10: PAN No. | E10: AADHAR NO. | F10: DATE OF BIRTH | G10: QUALIFICATION | H10: WHETHER THE EMPLOYEE POSSESSES THE EQUIVALENT QUALIFICATION | I10: BRANCH | J10: DESIGNATION | K10: DATE OF APPOINTMENT TO DESIGNATION | L10: Vth PAY SCALE/ VIth PAY SCALE/ OTHERS | M10: PAY SCALE (BAND) | N10: FOR 01/04/2023 TO 31/03/2024 | V10: PREVIOUS YEARS ARREARS PAID (IF ANY) | W10: PF CONTRIBUTION | Y10: ESI CONTRIBUTION | AA10: PROF. TAX | AB10: TDS | AC10: OTHER DEDUCTIONS | AD10: TOTAL DEDUCTIONS | AE10: NET SALARY | AF10: GRATUITY CONTRIBUTION | AG10: BANK DETAILS IN WHICH SALARY IS BEING CREDITED
N11: BASIC PAY (including AGP) | O11: DA | P11: HRA | Q11: CCA | R11: OTHERS | S11: TOTAL | T11: ARREARS (2023-24) | U11: GROSS SALARY | W11: EMPLOYEE | X11: EMPLOYER | Y11: EMPLOYEE | Z11: EMPLOYER | AG11: NAME | AH11: Account No. | AI11: IFSC
B12: 1 | C12: 2 | D12: 3 | E12: 4 | F12: 5 | G12: 6 | H12: 7 | I12: 8 | J12: 9 | K12: 10 | L12: 11 | M12: 12 | N12: 13 | O12: 14 | P12: 15 | Q12: 16 | R12: 17 | S12: 18 = 13+14+15+16+17) | T12: 19 | U12: 20=(18+19) | V12: 21 | W12: 22 | X12: 23 | Y12: 24 | Z12: 25 | AA12: 26 | AB12: 27 | AC12: 28 | AD12: 29= (22+24+26+27+28) | AE12: 30=(18-29) | AF12: 31 | AG12: 32 | AH12: 33 | AI12: 34
B13: 1 | C13: SUKUMAR S | D13: BGCPS6958J | E13: 427818674756 | F13: 26536 | G13: MD | H13: YES | I13: PATHOLOGY | J13: ASSOC PROF | K13: 41244 | L13: OTHERS | M13: 0 | N13: 480000 | O13: 0 | P13: 0 | Q13: 0 | R13: 600000 | S13: =SUM(N13:R13) -> 1080000 | T13: 0 | U13: =S13+T13 -> 1080000 | V13: 0 | W13: 0 | X13: 0 | Y13: 0 | Z13: 0 | AA13: 2400 | AB13: 67080 | AC13: 0 | AD13: =W13+Y13+AA13+AB13+AC13 -> 69480 | AE13: =U13-AD13 -> 1010520 | AF13: 0 | AG13: Union Bank Of India | AH13: 214810100068108 | AI13: UBIN0821489
B14: 2 | C14: T.RAMA KRANTHI | D14: AKQPT4161M | E14: 506409485277 | F14: 31540 | G14: M.Sc Med. Phy | H14: YES | I14: PHYSIOLOGY | J14: ASSOC PROF | K14: 42186 | L14: OTHERS | M14: 0 | N14: 150000 | O14: 0 | P14: 0 | Q14: 0 | R14: 333300 | S14: =SUM(N14:R14) -> 483300 | T14: 0 | U14: =S14+T14 -> 483300 | V14: 0 | W14: 0 | X14: 0 | Y14: 0 | Z14: 0 | AA14: 1000 | AB14: 23535 | AC14: 7213.5 | AD14: =W14+Y14+AA14+AB14+AC14 -> 31748.5 | AE14: =U14-AD14 -> 451551.5 | AF14: 0 | AG14: Union Bank Of India | AH14: 610002010011413 | AI14: UBIN0815837
B15: 3 | C15: SREELATHA KURAPATI | D15: CZZPK8437R | E15: 694354061035 | F15: 30538 | G15: MD | H15: YES | I15: PATHOLOGY | J15: ASSOC PROF | K15: 42340 | L15: OTHERS | M15: 0 | N15: 480000 | O15: 0 | P15: 0 | Q15: 0 | R15: 960000 | S15: =SUM(N15:R15) -> 1440000 | T15: 0 | U15: =S15+T15 -> 1440000 | V15: 0 | W15: 0 | X15: 0 | Y15: 0 | Z15: 0 | AA15: 2400 | AB15: 133120 | AC15: 0 | AD15: =W15+Y15+AA15+AB15+AC15 -> 135520 | AE15: =U15-AD15 -> 1304480 | AF15: 0 | AG15: Union Bank Of India | AH15: 214810100090286 | AI15: UBIN0821489
B16: 4 | C16: B. VENUGOPAL | D16: AOKPB0150L | E16: 670528853048 | F16: 29010 | G16: MBBS DMRD | H16: YES | I16: BIOCHEMISTRY | J16: ASSOC PROF | K16: 42480 | L16: OTHERS | M16: 0 | N16: 360000 | O16: 0 | P16: 0 | Q16: 0 | R16: 420000 | S16: =SUM(N16:R16) -> 780000 | T16: 0 | U16: =S16+T16 -> 780000 | V16: 0 | W16: 0 | X16: 0 | Y16: 0 | Z16: 0 | AA16: 2400 | AB16: 29120 | AC16: 0 | AD16: =W16+Y16+AA16+AB16+AC16 -> 31520 | AE16: =U16-AD16 -> 748480 | AF16: 0 | AG16: Union Bank Of India | AH16: 610002010012028 | AI16: UBIN0815837
B17: 5 | C17: KASHIF MOHAMMED MOHIDDIN | D17: ARYPK4329D | E17: 696397979899 | F17: 30261 | G17: MD | H17: YES | I17: PATHOLOGY | J17: ASSOC PROF | K17: 43070 | L17: OTHERS | M17: 0 | N17: 240000 | O17: 0 | P17: 0 | Q17: 0 | R17: 480000 | S17: =SUM(N17:R17) -> 720000 | T17: 0 | U17: =S17+T17 -> 720000 | V17: 0 | W17: 0 | X17: 0 | Y17: 0 | Z17: 0 | AA17: 1200 | AB17: 71048 | AC17: 0 | AD17: =W17+Y17+AA17+AB17+AC17 -> 72248 | AE17: =U17-AD17 -> 647752 | AF17: 0 | AG17: Union Bank Of India | AH17: 214810100067491 | AI17: UBIN0821489
B18: 6 | C18: NARA DEVAYANI | D18: ARMPN4232E | E18: 925035568426 | F18: 29793 | G18: MD | H18: YES | I18: PATHOLOGY | J18: ASSOC PROF | K18: 43344 | L18: OTHERS | M18: 0 | N18: 440000 | O18: 0 | P18: 0 | Q18: 0 | R18: 1155000 | S18: =SUM(N18:R18) -> 1595000 | T18: 0 | U18: =S18+T18 -> 1595000 | V18: 0 | W18: 0 | X18: 0 | Y18: 0 | Z18: 0 | AA18: 2200 | AB18: 193078 | AC18: 1039.5 | AD18: =W18+Y18+AA18+AB18+AC18 -> 196317.5 | AE18: =U18-AD18 -> 1398682.5 | AF18: 0 | AG18: Union Bank Of India | AH18: 610002010014107 | AI18: UBIN0815837
B19: 7 | C19: K.NANDINI | D19: CTFPK5792R | E19: 546669956369 | F19: 31717 | G19: MD | H19: YES | I19: BIOCHEMISTRY | J19: ASSOC PROF | K19: 43647 | L19: OTHERS | M19: 0 | N19: 360000 | O19: 0 | P19: 0 | Q19: 0 | R19: 780000 | S19: =SUM(N19:R19) -> 1140000 | T19: 0 | U19: =S19+T19 -> 1140000 | V19: 0 | W19: 0 | X19: 0 | Y19: 0 | Z19: 0 | AA19: 2400 | AB19: 79622.4 | AC19: 4814.5 | AD19: =W19+Y19+AA19+AB19+AC19 -> 86836.9 | AE19: =U19-AD19 -> 1053163.1 | AF19: 0 | AG19: Union Bank Of India | AH19: 610002010014273 | AI19: UBIN0815837
B20: 8 | C20: RAPOLU YADAGIRI | D20: ABJPR8628K | E20: 306853031481 | F20: 22072 | G20: MD | H20: YES | I20: COMMUNITY MEDICINE | J20: ASSOC PROF | K20: 44016 | L20: OTHERS | M20: 0 | N20: 451998 | O20: 0 | P20: 0 | Q20: 0 | R20: 960493 | S20: =SUM(N20:R20) -> 1412491 | T20: 0 | U20: =S20+T20 -> 1412491 | V20: 0 | W20: 0 | X20: 0 | Y20: 0 | Z20: 0 | AA20: 2400 | AB20: 127398.13 | AC20: 0 | AD20: =W20+Y20+AA20+AB20+AC20 -> 129798.13 | AE20: =U20-AD20 -> 1282692.9 | AF20: 0 | AG20: Union Bank Of India | AH20: 610002010015028 | AI20: UBIN0815837
B21: 9 | C21: AUDI THANMAYI NAIDU | D21: BXFPA2882R | E21: 661889817034 | F21: 32785 | G21: MD | H21: YES | I21: PATHOLOGY | J21: ASSOC PROF | K21: 44075 | L21: OTHERS | M21: 0 | N21: 360000 | O21: 0 | P21: 0 | Q21: 0 | R21: 840000 | S21: =SUM(N21:R21) -> 1200000 | T21: 0 | U21: =S21+T21 -> 1200000 | V21: 0 | W21: 0 | X21: 0 | Y21: 0 | Z21: 0 | AA21: 2400 | AB21: 85800 | AC21: 0 | AD21: =W21+Y21+AA21+AB21+AC21 -> 88200 | AE21: =U21-AD21 -> 1111800 | AF21: 0 | AG21: Union Bank Of India | AH21: 328002011015408 | AI21: UBIN0532801
B22: 10 | C22: GUPTA PRERNA DILIP KUMAR | D22: AOIPG2883H | E22: 605693122087 | F22: 30160 | G22: MD | H22: YES | I22: ANATOMY | J22: ASSOC PROF | K22: 44166 | L22: OTHERS | M22: 0 | N22: 480000 | O22: 0 | P22: 0 | Q22: 0 | R22: 960000 | S22: =SUM(N22:R22) -> 1440000 | T22: 0 | U22: =S22+T22 -> 1440000 | V22: 0 | W22: 0 | X22: 0 | Y22: 0 | Z22: 0 | AA22: 2400 | AB22: 133120 | AC22: 0 | AD22: =W22+Y22+AA22+AB22+AC22 -> 135520 | AE22: =U22-AD22 -> 1304480 | AF22: 0 | AG22: Union Bank Of India | AH22: 214812010000014 | AI22: UBIN0821489
B23: 11 | C23: GUPTA NEERAJ | D23: ALMPK0677L | E23: 995696231686 | F23: 29834 | G23: MD | H23: YES | I23: FORENSIC MEDICINE | J23: ASSOC PROF | K23: 44166 | L23: OTHERS | M23: 0 | N23: 480000 | O23: 0 | P23: 0 | Q23: 0 | R23: 960000 | S23: =SUM(N23:R23) -> 1440000 | T23: 0 | U23: =S23+T23 -> 1440000 | V23: 0 | W23: 0 | X23: 0 | Y23: 0 | Z23: 0 | AA23: 2400 | AB23: 133120 | AC23: 0 | AD23: =W23+Y23+AA23+AB23+AC23 -> 135520 | AE23: =U23-AD23 -> 1304480 | AF23: 0 | AG23: Union Bank Of India | AH23: 214812010000013 | AI23: UBIN0821489
B24: 12 | C24: MOHD ABDUL WASSEY | D24: CCDPM8424P | E24: 600686102042 | F24: 32375 | G24: MD | H24: YES | I24: COMMUNITY MEDICINE | J24: ASSOC PROF | K24: 44166 | L24: OTHERS | M24: 0 | N24: 360000 | O24: 0 | P24: 0 | Q24: 0 | R24: 840000 | S24: =SUM(N24:R24) -> 1200000 | T24: 0 | U24: =S24+T24 -> 1200000 | V24: 0 | W24: 0 | X24: 0 | Y24: 0 | Z24: 0 | AA24: 2400 | AB24: 85800 | AC24: 0 | AD24: =W24+Y24+AA24+AB24+AC24 -> 88200 | AE24: =U24-AD24 -> 1111800 | AF24: 0 | AG24: Union Bank Of India | AH24: 214810100096156 | AI24: UBIN0821489
... B27: 15 | C27: SHAIKA ARSHAD AHMED RAJMOHAMMAD | D27: AMEPS4018E | E27: 486599533118 | F27: 25939 | G27: MD | H27: YES | I27: ANATOMY | J27: ASSOC PROF | K27: 44652 | L27: OTHERS | M27: 0 | N27: 480000 | O27: 0 | P27: 0 | Q27: 0 | R27: 960000 | S27: =SUM(N27:R27) -> 1440000 | T27: 0 | U27: =S27+T27 -> 1440000 | V27: 0 | W27: 0 | X27: 0 | Y27: 0 | Z27: 0 | AA27: 2400 | AB27: 133120 | AC27: 0 | AD27: =W27+Y27+AA27+AB27+AC27 -> 135520 | AE27: =U27-AD27 -> 1304480 | AF27: 0 | AG27: Union Bank Of India | AH27: 214812010000718 | AI27: UBIN0821489
B28: 16 | C28: GANGA SREEDHAR | D28: AQOPG5613K | E28: 838614840521 | F28: 31052 | G28: M.Sc Ph.D | H28: YES | I28: PHARMACOLOGY | J28: ASSOC PROF | K28: 43839 | L28: OTHERS | M28: 0 | N28: 420000 | O28: 0 | P28: 0 | Q28: 0 | R28: 295800 | S28: =SUM(N28:R28) -> 715800 | T28: 0 | U28: =S28+T28 -> 715800 | V28: 0 | W28: 0 | X28: 0 | Y28: 0 | Z28: 0 | AA28: 2400 | AB28: 0 | AC28: 5216 | AD28: =W28+Y28+AA28+AB28+AC28 -> 7616 | AE28: =U28-AD28 -> 708184 | AF28: 0 | AG28: Union Bank Of India | AH28: 750102010002007 | AI28: 0
B29: 17 | C29: POTHULA VENKATA NAGA PADMAJA | D29: BAJPB7230D | E29: 427902993801 | F29: 28945 | G29: MD | H29: YES | I29: PATHOLOGY | J29: ASSOC PROF | K29: 45119 | L29: OTHERS | M29: 0 | N29: 345806 | O29: 0 | P29: 0 | Q29: 0 | R29: 432259 | S29: =SUM(N29:R29) -> 778065 | T29: 0 | U29: =S29+T29 -> 778065 | V29: 0 | W29: 0 | X29: 0 | Y29: 0 | Z29: 0 | AA29: 1800 | AB29: 28918.76 | AC29: 0 | AD29: =W29+Y29+AA29+AB29+AC29 -> 30718.76 | AE29: =U29-AD29 -> 747346.24 | AF29: 0 | AG29: Union Bank Of India | AH29: 610002010014108 | AI29: UBIN0815837
B30: 18 | C30: ANUSHARANI MANTHRI | D30: CJIPM2899C | E30: 700907870841 | F30: 31967 | G30: MD | H30: YES | I30: PHARMACOLOGY | J30: ASSOC PROF | K30: 45299 | L30: OTHERS | M30: 0 | N30: 83226 | O30: 0 | P30: 0 | Q30: 0 | R30: 277719 | S30: =SUM(N30:R30) -> 360945 | T30: 0 | U30: =S30+T30 -> 360945 | V30: 0 | W30: 0 | X30: 0 | Y30: 0 | Z30: 0 | AA30: 600 | AB30: 0 | AC30: 2362.5 | AD30: =W30+Y30+AA30+AB30+AC30 -> 2962.5 | AE30: =U30-AD30 -> 357982.5 | AF30: 0 | AG30: Union Bank Of India | AH30: 197112010000912 | AI30: 0
B31: 19 | C31: BAKKI SHESHU KUMAR | D31: AOBPB7494J | E31: 551418946023 | F31: 31349 | G31: MD | H31: YES | I31: BIOCHEMISTRY | J31: ASSOC PROF | K31: 45292 | L31: OTHERS | M31: 0 | N31: 120000 | O31: 0 | P31: 0 | Q31: 0 | R31: 330000 | S31: =SUM(N31:R31) -> 450000 | T31: 0 | U31: =S31+T31 -> 450000 | V31: 0 | W31: 0 | X31: 0 | Y31: 0 | Z31: 0 | AA31: 600 | AB31: 0 | AC31: 0 | AD31: =W31+Y31+AA31+AB31+AC31 -> 600 | AE31: =U31-AD31 -> 449400 | AF31: 0 | AG31: Union Bank Of India | AH31: 107510100059289 | AI31: 0
B32: 20 | C32: VENKATARAMANA K | D32: AMLPK7055Q | E32: 265311442675 | F32: 28525 | G32: M.Sc Med. Micro | H32: YES | I32: MICROBIOLOGY | J32: ASST PROF | K32: 40434 | L32: OTHERS | M32: 0 | N32: 360000 | O32: 0 | P32: 0 | Q32: 0 | R32: 540000 | S32: =SUM(N32:R32) -> 900000 | T32: 0 | U32: =S32+T32 -> 900000 | V32: 0 | W32: 0 | X32: 0 | Y32: 0 | Z32: 0 | AA32: 2400 | AB32: 41600 | AC32: 0 | AD32: =W32+Y32+AA32+AB32+AC32 -> 44000 | AE32: =U32-AD32 -> 856000 | AF32: 0 | AG32: Union Bank Of India | AH32: 610002010005186 | AI32: UBIN0815837
B33: 21 | C33: KALPANA SOGALA | D33: FHWPS4531N | E33: 624364692712 | F33: 31731 | G33: MS | H33: YES | I33: ANATOMY | J33: ASST PROF | K33: 43708 | L33: OTHERS | M33: 0 | N33: 51290 | O33: 0 | P33: 0 | Q33: 0 | R33: 105581 | S33: =SUM(N33:R33) -> 156871 | T33: 0 | U33: =S33+T33 -> 156871 | V33: 0 | W33: 0 | X33: 0 | Y33: 0 | Z33: 0 | AA33: 400 | AB33: 0 | AC33: 780 | AD33: =W33+Y33+AA33+AB33+AC33 -> 1180 | AE33: =U33-AD33 -> 155691 | AF33: 0 | AG33: Union Bank Of India | AH33: 610002010014620 | AI33: UBIN0815837
B34: 22 | C34: MOHD UBAIDULLAH ANSARI | D34: CDTPM9457M | E34: 630142115201 | F34: 32942 | G34: MD | H34: YES | I34: MICROBIOLOGY | J34: ASST PROF | K34: 44088 | L34: OTHERS | M34: 0 | N34: 45484 | O34: 0 | P34: 0 | Q34: 0 | R34: 106129 | S34: =SUM(N34:R34) -> 151613 | T34: 0 | U34: =S34+T34 -> 151613 | V34: 0 | W34: 0 | X34: 0 | Y34: 0 | Z34: 0 | AA34: 400 | AB34: 0 | AC34: 1422 | AD34: =W34+Y34+AA34+AB34+AC34 -> 1822 | AE34: =U34-AD34 -> 149791 | AF34: 0 | AG34: Union Bank Of India | AH34: 625202010006838 | AI34: UBIN0561002
B35: 23 | C35: DAVA SWETHA | D35: KJYPS8997B | E35: 696950323422 | F35: 31987 | G35: MD | H35: YES | I35: COMMUNITY MEDICINE | J35: ASST PROF | K35: 44174 | L35: OTHERS | M35: 0 | N35: 283966 | O35: 0 | P35: 0 | Q35: 0 | R35: 662586 | S35: =SUM(N35:R35) -> 946552 | T35: 0 | U35: =S35+T35 -> 946552 | V35: 0 | W35: 0 | X35: 0 | Y35: 0 | Z35: 0 | AA35: 2000 | AB35: 51256 | AC35: 16790 | AD35: =W35+Y35+AA35+AB35+AC35 -> 70046 | AE35: =U35-AD35 -> 876506 | AF35: 0 | AG35: Union Bank Of India | AH35: 158312010000033 | AI35: UBIN815837
B36: 24 | C36: K USHA KIRAN | D36: ATFPK0201P | E36: 699324772824 | F36: 25355 | G36: MD | H36: YES | I36: PHYSIOLOGY | J36: ASST PROF | K36: 44256 | L36: OTHERS | M36: 0 | N36: 360000 | O36: 0 | P36: 0 | Q36: 0 | R36: 840000 | S36: =SUM(N36:R36) -> 1200000 | T36: 0 | U36: =S36+T36 -> 1200000 | V36: 0 | W36: 0 | X36: 0 | Y36: 0 | Z36: 0 | AA36: 2400 | AB36: 85800 | AC36: 0 | AD36: =W36+Y36+AA36+AB36+AC36 -> 88200 | AE36: =U36-AD36 -> 1111800 | AF36: 0 | AG36: Union Bank Of India | AH36: 520101080113652 | AI36: UBIN0532801
B37: 25 | C37: MANISHA S GADAPPA | D37: BKVPG9200J | E37: 635068902645 | F37: 31454 | G37: MD | H37: YES | I37: PHARMACOLOGY | J37: ASST PROF | K37: 44529 | L37: OTHERS | M37: 0 | N37: 140323 | O37: 0 | P37: 0 | Q37: 0 | R37: 211983 | S37: =SUM(N37:R37) -> 352306 | T37: 0 | U37: =S37+T37 -> 352306 | V37: 0 | W37: 0 | X37: 0 | Y37: 0 | Z37: 0 | AA37: 1000 | AB37: 12405 | AC37: 0 | AD37: =W37+Y37+AA37+AB37+AC37 -> 13405 | AE37: =U37-AD37 -> 338901 | AF37: 0 | AG37: SBI | AH37: 62098452645 | AI37: SBIN0012905
B38: 26 | C38: PIRISINGULA SHRUTHI | D38: HYFPS0253F | E38: 647887105702 | F38: 31879 | G38: MSC | H38: YES | I38: MICROBIOLOGY | J38: ASST PROF | K38: 44848 | L38: OTHERS | M38: 0 | N38: 300000 | O38: 0 | P38: 0 | Q38: 0 | R38: 240000 | S38: =SUM(N38:R38) -> 540000 | T38: 0 | U38: =S38+T38 -> 540000 | V38: 0 | W38: 0 | X38: 0 | Y38: 0 | Z38: 0 | AA38: 2400 | AB38: 0 | AC38: 14197 | AD38: =W38+Y38+AA38+AB38+AC38 -> 16597 | AE38: =U38-AD38 -> 523403 | AF38: 0 | AG38: Union Bank Of India | AH38: 53610100137125 | AI38: 0
B39: 27 | C39: JILLELLA TEJASVI | D39: BASPJ8324B | E39: 415396729626 | F39: 32822 | G39: MD | H39: YES | I39: FORENSIC MEDICINE | J39: ASST PROF | K39: 44835 | L39: OTHERS | M39: 0 | N39: 150000 | O39: 0 | P39: 0 | Q39: 0 | R39: 350000 | S39: =SUM(N39:R39) -> 500000 | T39: 0 | U39: =S39+T39 -> 500000 | V39: 0 | W39: 0 | X39: 0 | Y39: 0 | Z39: 0 | AA39: 1000 | AB39: 32628 | AC39: 0 | AD39: =W39+Y39+AA39+AB39+AC39 -> 33628 | AE39: =U39-AD39 -> 466372 | AF39: 0 | AG39: Union Bank Of India | AH39: 214812010000939 | AI39: UBIN0821489
