Workbook
Name _____________ANX1: #REF!
Name _____________ANX1: #REF!
Name _____________ANX1: #REF!
Name _____________ANX1: #REF!
Name _____________ANX1: #REF!
Name _____________ANX1: #REF!
Name _____________ANX1: #REF!
Name _____________ANX1: #REF!
Name _____________ANX1: #REF!
Name _____________ANX2: #REF!
Name _____________ANX2: #REF!
Name _____________ANX2: #REF!
Name _____________ANX2: #REF!
Name _____________ANX2: #REF!
Name _____________ANX2: #REF!
Name _____________ANX2: #REF!
Name _____________ANX2: #REF!
Name _____________ANX2: #REF!
Name _____________ANX3: #REF!
Name _____________ANX3: #REF!
Name _____________ANX3: #REF!
Name _____________ANX3: #REF!
Name _____________ANX3: #REF!
Name _____________ANX3: #REF!
Name _____________ANX3: #REF!
Name _____________ANX3: #REF!
Name _____________ANX3: #REF!
Name _____________SCH11: #REF!
Name _____________SCH11: #REF!
Name _____________SCH11: #REF!
Name _____________SCH11: #REF!
Name _____________SCH11: #REF!
Name _____________SCH11: #REF!
Name _____________SCH11: #REF!
Name _____________SCH11: #REF!
Name _____________SCH11: #REF!
Name ____________ANX1: #REF!
Name ____________ANX1: #REF!
Name ____________ANX1: #REF!
Name ____________ANX1: #REF!
Name ____________ANX1: #REF!
Name ____________ANX1: #REF!
Name ____________ANX1: #REF!
Name ____________ANX1: #REF!
Name ____________ANX1: #REF!
Name ____________ANX2: #REF!
Name ____________ANX2: #REF!
Name ____________ANX2: #REF!
Name ____________ANX2: #REF!
Name ____________ANX2: #REF!
Name ____________ANX2: #REF!
Name ____________ANX2: #REF!
Name ____________ANX2: #REF!
Name ____________ANX2: #REF!
Name ____________ANX3: #REF!
Name ____________ANX3: #REF!
Name ____________ANX3: #REF!
Name ____________ANX3: #REF!
Name ____________ANX3: #REF!
Name ____________ANX3: #REF!

Sheet GEN INFO(MLT)
C2: APPENDIX - VI
C3: GENERAL INFORMATION OF THE SOCIETY / INSTITUTION
D5: PLEASE NOTE THAT YOU SHOULD FILL IN PARTICULARS FOR ONLY THOSE PROGRAMMES WHICH ARE OFFERED IN THE COLLEGE AND DELETE THOSE WHICH ARE NOT OFFERED IN ALL THE SCHEDULES WHERE APPLICABLE
D8: NAME OF THE SOCIETY /TRUST : | F8: PRATHIMA EDUCATIONAL SOCIETY
D9: COURSE | I9: B.Sc (MLT) , B.Sc(AHS) & PARA MEDICAL
D11: ADDRESS OF THE TRUST | I11: PLOT NO.213, ROAD NO.1 FILM NAGAR, HYDERABAD-96
D13: NO. OF INSTITUTIONS UNDER THE SOCIETY | I13: 3
D15: NAMES OF THE INSTITUTIONS UNDER THE SOCIETY
D17: S.No. | E17: NAME | I17: EAMCET CODE
D19: A | E19: PRATHIMA INSTITUTE OF MEDICAL SCIENCES (PRIM)
D20: B | E20: PRATHIMA COLLEGE OF NURSING (PRCN)
D21: C | E21: PRATHIMA INSTITUTE OF MEDICAL SCIENCES (PRML)
D25: ADDRESS OF THE INSTITUTION | I25: VILLAGE NAGUNURU, DIST KARIMNAGAR, TS
D27: DETAILS OF SANCTIONED PROGRAMMES, INTAKE & STUDENTS ADMITTED FOR THE YEAR 2024-25
D29: S.NO. | E29: SANCTIONED | I29: STUDENTS ADMITTED | K29: FEE PROPOSAL FOR THE BLOCK PERIOD 2026-27 to 2028-29
E30: COURSE | F30: YEAR | G30: BRANCH | H30: INTAKE | I30: CATEGORY | J30: INTAKE
D31: Under Graduate Course:
D32: 1 | E32: B.Sc MLT | F32: 1ST YEAR | G32: ECE-1 | H32: 30 | I32: A | J32: 28 | K32: Fee proposed for the Block Period Rs.45,000 for Competent Authority and Upto Rs.90,000 for Management.
H33: 20 | I33: B | J33: 20
F34: Sub Total | H34: =SUM(H32:H33) -> 50 | J34: =SUM(J32:J33) -> 48
F35: 2ND YEAR | G35: ECE-2 | H35: 30 | I35: A | J35: 28
H36: 20 | I36: B | J36: 21
F37: Sub Total | H37: =SUM(H35:H36) -> 50 | J37: =SUM(J35:J36) -> 49
F38: 3RD YEAR | G38: EEE | H38: 30 | I38: A | J38: 28
H39: 20 | I39: B | J39: 20
F40: Sub Total | H40: =SUM(H38:H39) -> 50 | J40: =SUM(J38:J39) -> 48
D41: TOTAL | H41: =H34+H37+H40 -> 150 | J41: =J34+J37+J40 -> 145
D42: Under Graduate Course:
D43: 2 | E43: BSC (ALLIED) COURSES | F43: YEAR | G43: INTAKE | H43: INTAKE | I43: CATEGORY | J43: INTAKE | K43: Fee proposed for the Block Period Rs.45,000 for Competent Authority and Upto Rs.90,000 for Management.
E45: Anaesthesia Technology | F45: IST YEAR | H45: 12 | I45: Competent Authourity | J45: 11
H46: 8 | I46: Management seats | J46: 8
F48: 2ND YEAR | H48: 12 | I48: Competent Authourity | J48: 12
H49: 8 | I49: Management seats | J49: 8
F51: 3RD YEAR | H51: 0 | I51: Competent Authourity | J51: 0
H52: 0 | I52: Management seats | J52: 0
E54: Operation Theatre Technology | F54: IST YEAR | H54: 12 | I54: Competent Authourity | J54: 12
H55: 8 | I55: Management seats | J55: 7
F57: 2ND YEAR | H57: 12 | I57: Competent Authourity | J57: 10
H58: 8 | I58: Management seats | J58: 7
F60: 3RD YEAR | H60: 0 | I60: Competent Authourity | J60: 0
...

Sheet Statement1 BSC(MLT)
C3: NAME OF THE INSTITUTION | G3: PRATHIMA INSTITUTE OF MEDICAL SCIENCES
G4: BSC(MLT) , BSC(AHS) & PARA MEDICAL | J4: STATEMENT - 1
C5: INCOME & EXPENDITURE STATEMENT OF THE INSTITUTION FOR THE FINANCIAL YEAR 2023-24 & 2024-25 | L5: AMOUNT IN RS.
C6: PARTICULARS | G6: BSC(MLT) | I6: BSC(ALLIED) | K6: PARA MEDICAL | M6: CONSOLIDATED
G7: FOR THE PERIOD FROM 01/04/2023 TO 31/03/2024 | H7: FOR THE PERIOD FROM 01/04/2024 TO 31/03/2025 | I7: FOR THE PERIOD FROM 01/04/2023 TO 31/03/2024 | J7: FOR THE PERIOD FROM 01/04/2024 TO 31/03/2025 | K7: FOR THE PERIOD FROM 01/04/2024 TO 31/03/2025 | L7: FOR THE PERIOD FROM 01/04/2024 TO 31/03/2025 | M7: FOR THE PERIOD FROM 01/04/2024 TO 31/03/2025 | N7: FOR THE PERIOD FROM 01/04/2024 TO 31/03/2025
C8: INCOME:
D9: Fee Collection | G9: 4071000 | H9: 4215500 | I9: 6255000 | J9: 15480000 | K9: 0 | L9: 160000 | M9: =G9+I9+K9 -> 10326000 | N9: =H9+J9+L9 -> 19855500
F10: Less Development Fund (NRI) | G10: 0 | H10: 0 | I10: 0 | J10: 0 | K10: 0 | L10: 0 | M10: =G10+I10+K10 -> 0 | N10: =H10+J10+L10 -> 0
F11: Net Collection : (Fee Collection - Development Fund) | G11: 4071000 | H11: 4215500 | I11: 6255000 | J11: 15480000 | K11: 0 | L11: 160000 | M11: =G11+I11+K11 -> 10326000 | N11: =H11+J11+L11 -> 19855500
F12: Special fee | G12: 0 | H12: 0 | I12: 0 | J12: 0 | K12: 0 | L12: 0 | M12: =G12+I12+K12 -> 0 | N12: =H12+J12+L12 -> 0
D13: OTHER INCOME
E14: Income from Patients | G14: 0 | H14: 0 | I14: 0 | J14: 0 | K14: 0 | L14: 0 | M14: =G14+I14+K14 -> 0 | N14: =H14+J14+L14 -> 0
E15: Interest Received | G15: 0 | H15: 0 | I15: 0 | J15: 0 | K15: 0 | L15: 0 | M15: =G15+I15+K15 -> 0 | N15: =H15+J15+L15 -> 0
E16: College Bus FeeCollections | G16: 0 | H16: 0 | I16: 0 | J16: 0 | K16: 0 | L16: 0 | M16: =G16+I16+K16 -> 0 | N16: =H16+J16+L16 -> 0
E17: Interest on AICTE FDRs | G17: 0 | H17: 0 | I17: 0 | J17: 0 | K17: 0 | L17: 0 | M17: =G17+I17+K17 -> 0 | N17: =H17+J17+L17 -> 0
E18: Interest on Electricity Deposits | G18: 0 | H18: 0 | I18: 0 | J18: 0 | K18: 0 | L18: 0 | M18: =G18+I18+K18 -> 0 | N18: =H18+J18+L18 -> 0
E19: Surplus from Seminars | G19: 0 | H19: 0 | I19: 0 | J19: 0 | K19: 0 | L19: 0 | M19: =G19+I19+K19 -> 0 | N19: =H19+J19+L19 -> 0
E20: Miscellaneous Income | G20: 0 | H20: 0 | I20: 0 | J20: 0 | K20: 0 | L20: 0 | M20: =G20+I20+K20 -> 0 | N20: =H20+J20+L20 -> 0
E21: Any other Income (specify Head-wise) | G21: 0 | H21: 0 | I21: 0 | J21: 0 | K21: 0 | L21: 0 | M21: =G21+I21+K21 -> 0 | N21: =H21+J21+L21 -> 0
F22: Pharmacy Sales | G22: 0 | H22: 0 | I22: 0 | J22: 0 | K22: 0 | L22: 0 | M22: =G22+I22+K22 -> 0 | N22: =H22+J22+L22 -> 0
F23: Hostel / Other Fee | G23: 0 | H23: 0 | I23: 0 | J23: 0 | K23: 0 | L23: 0 | M23: =G23+I23+K23 -> 0 | N23: =H23+J23+L23 -> 0
D24: Revenue Grants
D25: Donations & Contributions
C26: TOTAL INCOME | G26: =+SUM(G11:G25) -> 4071000 | H26: =+SUM(H11:H25) -> 4215500 | I26: =+SUM(I11:I25) -> 6255000 | J26: =+SUM(J11:J25) -> 15480000 | K26: =+SUM(K11:K25) -> 0 | L26: =+SUM(L11:L25) -> 160000 | M26: =+SUM(M11:M25) -> 10326000 | N26: =+SUM(N11:N25) -> 19855500
C28: EXPENDITURE
D29: SALARIES
E30: Department wise Staff (Clinical) Salaries | G30: 2278345.8 | H30: 4407123.2 | I30: 2154354.2 | J30: 9141802.9 | K30: 0 | L30: 238222.88 | M30: =G30+I30+K30 -> 4432700 | N30: =H30+J30+L30 -> 13787149
F31: Eligible Staff
E32: Department wise Staff (Non-Clinical) Salaries | G32: 0 | H32: 0 | I32: 0 | J32: 0 | K32: 0 | L32: 0 | M32: =G32+I32+K32 -> 0 | N32: =H32+J32+L32 -> 0
F33: Eligible Staff
E34: Ancillary Serivices Staff Salaries | G34: 3138923.9 | H34: 2375301.2 | I34: 2968098.1 | J34: 4927145.1 | K34: 0 | L34: 128394.66 | M34: =G34+I34+K34 -> 6107022 | N34: =H34+J34+L34 -> 7430841
F35: Eligible Staff
D37: Administrative & Other Expenses | G37: 0 | H37: 0 | I37: 0 | J37: 0 | K37: 0 | L37: 0 | M37: =G37+I37+K37 -> 0 | N37: =H37+J37+L37 -> 0
D38: Finance Costs | G38: 0 | H38: 0 | I38: 0 | J38: 0 | K38: 0 | L38: 0 | M38: =G38+I38+K38 -> 0 | N38: =H38+J38+L38 -> 0
D39: Depreciation | G39: 0 | H39: 0 | I39: 0 | J39: 0 | K39: 0 | L39: 0 | M39: =G39+I39+K39 -> 0 | N39: =H39+J39+L39 -> 0
D40: Utilisation of Revenue Grants | G40: 0 | H40: 0 | I40: 0 | J40: 0 | K40: 0 | L40: 0 | M40: =G40+I40+K40 -> 0 | N40: =H40+J40+L40 -> 0
C41: TOTAL EXPENDITURE | G41: =+SUM(G28:G40) -> 5417269.7 | H41: =+SUM(H28:H40) -> 6782424.4 | I41: =+SUM(I28:I40) -> 5122452.3 | J41: =+SUM(J28:J40) -> 14068948 | K41: =+SUM(K28:K40) -> 0 | L41: =+SUM(L28:L40) -> 366617.54 | M41: =+SUM(M28:M40) -> 10539722 | N41: =+SUM(N28:N40) -> 21217990
D42: Surplus/ (Deficit) | G42: =+G26-G41 -> -1346269.7 | H42: =+H26-H41 -> -2566924.4 | I42: =+I26-I41 -> 1132547.7 | J42: =+J26-J41 -> 1411052 | K42: =+K26-K41 -> 0 | L42: =+L26-L41 -> -206617.54 | M42: =G42+I42+K42 -> -213722 | N42: =H42+J42+L42 -> -1362490
C43: SANCTIONED INTAKE / APPROVED BY UNIVERSITY | G43: 147 | H43: 148 | I43: 139 | J43: 307 | K43: 0 | L43: 8 | M43: =G43+I43+K43 -> 286 | N43: =H43+J43+L43 -> 463
C44: AVERAGE EXPENDITURE PER STUDENT | G44: =G41/G43 -> 36852.175 | H44: =H41/H43 -> 45827.192 | I44: =I41/I43 -> 36852.175 | J44: =J41/J43 -> 45827.192 | K44: 0 | L44: =L41/L43 -> 45827.192 | M44: =M41/M43 -> 36852.175 | N44: =N41/N43 -> 45827.192

Sheet Statement2 BSC(MLT)
B2: NAME OF THE SOCIETY | F2: PRATHIMA EDUCATION SOCIETY
B3: STATEMENT - 2
B4: INCOME & EXPENDITURE STATEMENT OF THE SOCIETY FOR THE FINANCIAL YEAR 2020-21 , 2021-22 & 2022-23
B5: PARTICULARS | F5: SOCIETY | H5: PIMS-BSC(MLT) , BSC(ALLIED) & PARA MEDICAL | J5: PIMS(MBBS & PG) AND PRATHIMA COLLEGE OF NURSING
F6: FOR THE PERIOD FROM 01/04/2023 TO 31/03/2024 | G6: FOR THE PERIOD FROM 01/04/2024 TO 31/03/2025 | H6: FOR THE PERIOD FROM 01/04/2023 TO 31/03/2024 | I6: FOR THE PERIOD FROM 01/04/2024 TO 31/03/2025 | J6: FOR THE PERIOD FROM 01/04/2023 TO 31/03/2024 | K6: FOR THE PERIOD FROM 01/04/2024 TO 31/03/2025
B7: INCOME:
C8: Fee Collection | F8: 1132356825 | G8: 1335340600 | H8: 10326000 | I8: 19855500 | J8: =F8-H8 -> 1122030825 | K8: =G8-I8 -> 1315485100
E9: Less Development Fund (NRI) | F9: 0 | G9: 0 | H9: 0 | I9: 0 | J9: =F9-H9 -> 0 | K9: =G9-I9 -> 0
E10: Net Collection : (Fee Collection - Development Fund) | F10: 1132356825 | G10: 1335340600 | H10: 10326000 | I10: 19855500 | J10: =F10-H10 -> 1122030825 | K10: =G10-I10 -> 1315485100
E11: Special fee | F11: 0 | G11: 0 | H11: 0 | I11: 0 | J11: =F11-H11 -> 0 | K11: =G11-I11 -> 0
C12: OTHER INCOME
D13: Income from Patients | F13: 2.2669178e+08 | G13: 2.6459093e+08 | H13: 0 | I13: 0 | J13: =F13-H13 -> 2.2669178e+08 | K13: =G13-I13 -> 2.6459093e+08
D14: Interest Received | F14: 0 | G14: 0 | H14: 0 | I14: 0 | J14: =F14-H14 -> 0 | K14: =G14-I14 -> 0
D15: College Bus FeeCollections | F15: 0 | G15: 0 | H15: 0 | I15: 0 | J15: =F15-H15 -> 0 | K15: =G15-I15 -> 0
D16: Interest on AICTE FDRs | F16: 29693262 | G16: 32480235 | H16: 0 | I16: 0 | J16: =F16-H16 -> 29693262 | K16: =G16-I16 -> 32480235
D17: Interest on Electricity Deposits | F17: 32609 | G17: 845281 | H17: 0 | I17: 0 | J17: =F17-H17 -> 32609 | K17: =G17-I17 -> 845281
D18: Surplus from Seminars | F18: 0 | G18: 0 | H18: 0 | I18: 0 | J18: =F18-H18 -> 0 | K18: =G18-I18 -> 0
D19: Miscellaneous Income | F19: 31138052 | G19: 1891964.1 | H19: 0 | I19: 0 | J19: =F19-H19 -> 31138052 | K19: =G19-I19 -> 1891964.1
D20: Any other Income (specify Head-wise)
E21: Pharmacy Sales | F21: 11828455 | G21: 14880580 | H21: 0 | I21: 0 | J21: =F21-H21 -> 11828455 | K21: =G21-I21 -> 14880580
E22: Hostel / Other Fee | F22: 1.3558956e+08 | G22: 1.4558773e+08 | H22: 0 | I22: 0 | J22: =F22-H22 -> 1.3558956e+08 | K22: =G22-I22 -> 1.4558773e+08
C23: Revenue Grants
C24: Donations & Contributions
B25: TOTAL INCOME | F25: =+SUM(F10:F24) -> 1.5673305e+09 | G25: =+SUM(G10:G24) -> 1.7956173e+09 | H25: =+SUM(H10:H24) -> 10326000 | I25: =+SUM(I10:I24) -> 19855500 | J25: =+SUM(J10:J24) -> 1.5570045e+09 | K25: =+SUM(K10:K24) -> 1.7757618e+09
B27: EXPENDITURE
C28: SALARIES
D29: Department wise Staff (Clinical) Salaries | F29: 241498762 | G29: 213010978 | H29: 4432700 | I29: 13787149 | J29: =F29-H29 -> 237066062 | K29: =G29-I29 -> 199223829
E30: Eligible Staff
D31: Department wise Staff (Non-Clinical) Salaries | F31: 78210975 | G31: 90924931 | H31: 0 | I31: 0 | J31: =F31-H31 -> 78210975 | K31: =G31-I31 -> 90924931
E32: Eligible Staff
D33: Ancillary Serivices Staff Salaries | F33: 121199093 | G33: 147603759 | H33: 6107022 | I33: 7430841 | J33: =F33-H33 -> 115092071 | K33: =G33-I33 -> 140172918
E34: Eligible Staff
C36: Administrative & Other Expenses | F36: 8.8900253e+08 | G36: 9.1058733e+08 | H36: 0 | I36: 0 | J36: =F36-H36 -> 8.8900253e+08 | K36: =G36-I36 -> 9.1058733e+08
C37: Finance Costs | F37: 30890897 | G37: 32521821 | H37: 0 | I37: 0 | J37: =F37-H37 -> 30890897 | K37: =G37-I37 -> 32521821
C38: Depreciation | F38: 1.0006939e+08 | G38: 1.0189739e+08 | H38: 0 | I38: 0 | J38: =F38-H38 -> 1.0006939e+08 | K38: =G38-I38 -> 1.0189739e+08
C39: Utilisation of Revenue Grants | F39: 0 | G39: 0 | H39: 0 | I39: 0 | J39: =F39-H39 -> 0 | K39: =G39-I39 -> 0
B40: TOTAL EXPENDITURE | F40: =+SUM(F27:F39) -> 1.4608716e+09 | G40: =+SUM(G27:G39) -> 1.4965462e+09 | H40: =+SUM(H27:H39) -> 10539722 | I40: =+SUM(I27:I39) -> 21217990 | J40: =+SUM(J27:J39) -> 1.4503319e+09 | K40: =+SUM(K27:K39) -> 1.4753282e+09
C41: Surplus/ (Deficit) | F41: =F25-F40 -> 1.0645889e+08 | G41: =G25-G40 -> 2.9907112e+08 | H41: =H25-H40 -> -213722 | I41: =I25-I40 -> -1362490 | J41: =J25-J40 -> 1.0667261e+08 | K41: =K25-K40 -> 3.0043361e+08
B42: SANCTIONED INTAKE / APPROVED BY UNIVERSITY | F42: 2249 | G42: 2500 | H42: 286 | I42: 463 | J42: =F42-H42 -> 1963 | K42: =G42-I42 -> 2037
B43: AVERAGE EXPENDITURE PER STUDENT | F43: =F40/F42 -> 649564.98 | G43: =G40/G42 -> 598618.48 | H43: =H40/H42 -> 36852.175 | I43: =I40/I42 -> 45827.192 | J43: =J40/J42 -> 738834.4 | K43: =K40/K42 -> 724265.2

Sheet SCH-1 (B.Sc(MLT)
C3: NAME OF THE INSTITUTION PRATHIMA INSTITUTE OF MEDICAL SCIENCES
F4: B.Sc (MLT) , B.Sc(AHS) & PARA MEDICAL
C5: CODE OF THE INSTITUTION | L5: SCHEDULE - 1
C7: DETAILS OF FEE COLLECTIONS FOR ALL THE PROGRAMMES IN THE INSTITUTION FOR THE FINANCIAL YEAR 2024-25 , 2023-24 , 2022-23 & 2021-22
V8: AMOUNT IN Rs.
C9: S.No. | D9: PROGRAMME | E9: YEAR | F9: SANCTIONED | G9: FEE COLLECTIONS | K9: SANCTIONED | L9: FEE COLLECTIONS | P9: SANCTIONED | Q9: FEE COLLECTIONS | U9: SANCTIONED | V9: FEE COLLECTIONS
G10: CATEGORY | H10: ACADEMIC YEAR 2024-25 | L10: CATEGORY | M10: ACADEMIC YEAR 2023-24 | Q10: CATEGORY | R10: ACADEMIC YEAR 2022-23 | V10: CATEGORY | W10: ACADEMIC YEAR 2021-22
F11: INTAKE | H11: ADMITTED | I11: FEE | J11: TOTAL FEE | K11: INTAKE | M11: ADMITTED | N11: FEE | O11: TOTAL FEE | P11: INTAKE | R11: ADMITTED | S11: FEE | T11: TOTAL FEE | U11: INTAKE | W11: ADMITTED | X11: FEE | Y11: TOTAL FEE
C12: UNDER-GRADUATE COURSE:
I13: 1 | J13: 3=(1+2)
C14: 1 | D14: BSC(MLT) | E14: IST YEAR | F14: 30 | G14: A | H14: 30 | I14: =J14/H14 -> 24750 | J14: 742500 | K14: 30 | L14: A | M14: 30 | N14: 22500 | O14: =M14*N14 -> 675000 | P14: 30 | Q14: A | R14: 28 | S14: 16000 | T14: =S14*R14 -> 448000 | U14: 30 | V14: A | W14: 29 | X14: =Y14/W14 -> 16948.276 | Y14: 491500
F15: 20 | G15: B | H15: 20 | I15: 45000 | J15: =H15*I15 -> 900000 | K15: 20 | L15: B | M15: 20 | N15: 22500 | O15: =M15*N15 -> 450000 | P15: 20 | Q15: B | R15: 20 | S15: 50000 | T15: =S15*R15 -> 1000000 | U15: 20 | V15: B | W15: 20 | X15: 43500 | Y15: =W15*X15 -> 870000
E16: Sub Total | F16: =SUM(F14:F15) -> 50 | G16: TOTAL | H16: =SUM(H14:H15) -> 50 | J16: =SUM(J14:J15) -> 1642500 | K16: =SUM(K14:K15) -> 50 | L16: TOTAL | M16: =SUM(M14:M15) -> 50 | O16: =SUM(O14:O15) -> 1125000 | P16: =SUM(P14:P15) -> 50 | Q16: TOTAL | R16: =SUM(R14:R15) -> 48 | T16: =SUM(T14:T15) -> 1448000 | U16: =SUM(U14:U15) -> 50 | V16: TOTAL | W16: =SUM(W14:W15) -> 49 | Y16: =SUM(Y14:Y15) -> 1361500
E17: 2ND YEAR | F17: 30 | G17: A | H17: 30 | I17: 22500 | J17: =H17*I17 -> 675000 | K17: 30 | L17: A | M17: 28 | N17: 16000 | O17: =N17*M17 -> 448000 | P17: 30 | Q17: A | R17: 29 | S17: =T17/R17 -> 17172.414 | T17: 498000 | U17: 30 | V17: A | W17: 28 | X17: 16000 | Y17: =W17*X17 -> 448000
F18: 20 | G18: B | H18: 20 | I18: 22500 | J18: =H18*I18 -> 450000 | K18: 20 | L18: B | M18: 20 | N18: 50000 | O18: =N18*M18 -> 1000000 | P18: 20 | Q18: B | R18: 20 | S18: 50000 | T18: =S18*R18 -> 1000000 | U18: 20 | V18: B | W18: 20 | X18: 16000 | Y18: =W18*X18 -> 320000
E19: Sub Total | F19: =SUM(F17:F18) -> 50 | G19: TOTAL | H19: =SUM(H17:H18) -> 50 | J19: =SUM(J17:J18) -> 1125000 | K19: =SUM(K17:K18) -> 50 | L19: TOTAL | M19: =SUM(M17:M18) -> 48 | O19: =SUM(O17:O18) -> 1448000 | P19: =SUM(P17:P18) -> 50 | Q19: TOTAL | R19: =SUM(R17:R18) -> 49 | T19: =SUM(T17:T18) -> 1498000 | U19: =SUM(U17:U18) -> 50 | V19: TOTAL | W19: =SUM(W17:W18) -> 48 | Y19: =SUM(Y17:Y18) -> 768000
E20: 3RD YEAR | F20: 30 | G20: A | H20: 28 | I20: 16000 | J20: =I20*H20 -> 448000 | K20: 30 | L20: A | M20: 29 | N20: =O20/M20 -> 17172.414 | O20: 498000 | P20: 30 | Q20: A | R20: 28 | S20: 16000 | T20: =R20*S20 -> 448000 | U20: 30 | V20: A | W20: 30 | X20: 16000 | Y20: =W20*X20 -> 480000
F21: 20 | G21: B | H21: 20 | I21: 50000 | J21: =I21*H21 -> 1000000 | K21: 20 | L21: B | M21: 20 | N21: 50000 | O21: =N21*M21 -> 1000000 | P21: 20 | Q21: B | R21: 20 | S21: 16000 | T21: =R21*S21 -> 320000 | U21: 20 | V21: B | W21: 20 | X21: 16000 | Y21: =W21*X21 -> 320000
E22: Sub Total | F22: =SUM(F20:F21) -> 50 | G22: TOTAL | H22: =SUM(H20:H21) -> 48 | J22: =SUM(J20:J21) -> 1448000 | K22: =SUM(K20:K21) -> 50 | L22: TOTAL | M22: =SUM(M20:M21) -> 49 | O22: =SUM(O20:O21) -> 1498000 | P22: =SUM(P20:P21) -> 50 | Q22: TOTAL | R22: =SUM(R20:R21) -> 48 | T22: =SUM(T20:T21) -> 768000 | U22: =SUM(U20:U21) -> 50 | V22: TOTAL | W22: =SUM(W20:W21) -> 50 | Y22: =SUM(Y20:Y21) -> 800000
C23: Sub Totals | F23: =F22+F19+F16 -> 150 | H23: =H22+H19+H16 -> 148 | J23: =J22+J19+J16 -> 4215500 | K23: =K22+K19+K16 -> 150 | M23: =M22+M19+M16 -> 147 | O23: =O22+O19+O16 -> 4071000 | P23: =P22+P19+P16 -> 150 | R23: =R22+R19+R16 -> 145 | T23: =T22+T19+T16 -> 3714000 | U23: =U22+U19+U16 -> 150 | W23: =W22+W19+W16 -> 147 | Y23: =Y22+Y19+Y16 -> 2929500
C24: 2 | D24: BSC(ALLIED) COURSES
D25: Anaesthesia Technology
E26: IST YEAR | F26: 12 | G26: Competent Authourity | H26: 11 | I26: 45000 | J26: =H26*I26 -> 495000 | K26: 12 | L26: Competent Authourity | M26: 12 | N26: 45000 | O26: =M26*N26 -> 540000 | P26: 0 | Q26: Competent Authourity | R26: 0 | S26: 0 | T26: 0 | U26: 0 | V26: Competent Authourity | W26: 0 | X26: 0 | Y26: 0
F27: 8 | G27: Management seats | H27: 8 | I27: 45000 | J27: =H27*I27 -> 360000 | K27: 8 | L27: Management seats | M27: 8 | N27: 45000 | O27: =M27*N27 -> 360000 | P27: 0 | Q27: Management seats | R27: 0 | S27: 0 | T27: 0 | U27: 0 | V27: Management seats | W27: 0 | X27: 0 | Y27: 0
E28: 2ND YEAR | F28: 12 | G28: Competent Authourity | H28: 12 | I28: 45000 | J28: =H28*I28 -> 540000 | K28: 0 | L28: Competent Authourity | M28: 0 | N28: 0 | O28: 0 | P28: 0 | Q28: Competent Authourity | R28: 0 | S28: 0 | T28: 0 | U28: 0 | V28: Competent Authourity | W28: 0 | X28: 0 | Y28: 0
F29: 8 | G29: Management seats | H29: 8 | I29: 45000 | J29: =H29*I29 -> 360000 | K29: 0 | L29: Management seats | M29: 0 | N29: 0 | O29: 0 | P29: 0 | Q29: Management seats | R29: 0 | S29: 0 | T29: 0 | U29: 0 | V29: Management seats | W29: 0 | X29: 0 | Y29: 0
E30: 3RD YEAR | F30: 0 | G30: Competent Authourity | H30: 0 | I30: 0 | J30: 0 | K30: 0 | L30: Competent Authourity | M30: 0 | N30: 0 | O30: 0 | P30: 0 | Q30: Competent Authourity | R30: 0 | S30: 0 | T30: 0 | U30: 0 | V30: Competent Authourity | W30: 0 | X30: 0 | Y30: 0
F31: 0 | G31: Management seats | H31: 0 | I31: 0 | J31: 0 | K31: 0 | L31: Management seats | M31: 0 | N31: 0 | O31: 0 | P31: 0 | Q31: Management seats | R31: 0 | S31: 0 | T31: 0 | U31: 0 | V31: Management seats | W31: 0 | X31: 0 | Y31: 0
E32: Sub Total | F32: =SUM(F26:F31) -> 40 | G32: TOTAL | H32: =SUM(H26:H31) -> 39 | J32: =SUM(J26:J31) -> 1755000 | K32: =SUM(K26:K31) -> 20 | L32: TOTAL | M32: =SUM(M26:M31) -> 20 | O32: =SUM(O26:O31) -> 900000 | P32: =SUM(P26:P31) -> 0 | Q32: TOTAL | R32: =SUM(R26:R31) -> 0 | T32: =SUM(T26:T31) -> 0 | U32: =SUM(U26:U31) -> 0 | V32: TOTAL | W32: =SUM(W26:W31) -> 0 | Y32: =SUM(Y26:Y31) -> 0
D33: Operation Theatre Technology
E34: IST YEAR | F34: 12 | G34: Competent Authourity | H34: 12 | I34: 45000 | J34: =H34*I34 -> 540000 | K34: 12 | L34: Competent Authourity | M34: 10 | N34: 45000 | O34: =M34*N34 -> 450000 | P34: 0 | Q34: Competent Authourity | R34: 0 | S34: 0 | T34: 0 | U34: 0 | V34: Competent Authourity | W34: 0 | X34: 0 | Y34: 0
F35: 8 | G35: Management seats | H35: 7 | I35: 45000 | J35: =H35*I35 -> 315000 | K35: 8 | L35: Management seats | M35: 4 | N35: 45000 | O35: =M35*N35 -> 180000 | P35: 0 | Q35: Management seats | R35: 0 | S35: 0 | T35: 0 | U35: 0 | V35: Management seats | W35: 0 | X35: 0 | Y35: 0
E36: 2ND YEAR | F36: 12 | G36: Competent Authourity | H36: 10 | I36: 45000 | J36: =H36*I36 -> 450000 | K36: 0 | L36: Competent Authourity | M36: 0 | N36: 0 | O36: 0 | P36: 0 | Q36: Competent Authourity | R36: 0 | S36: 0 | T36: 0 | U36: 0 | V36: Competent Authourity | W36: 0 | X36: 0 | Y36: 0
F37: 8 | G37: Management seats | H37: 4 | I37: 45000 | J37: =H37*I37 -> 180000 | K37: 0 | L37: Management seats | M37: 0 | N37: 0 | O37: 0 | P37: 0 | Q37: Management seats | R37: 0 | S37: 0 | T37: 0 | U37: 0 | V37: Management seats | W37: 0 | X37: 0 | Y37: 0
E38: 3RD YEAR | F38: 0 | G38: Competent Authourity | H38: 0 | I38: 0 | J38: 0 | K38: 0 | L38: Competent Authourity | M38: 0 | N38: 0 | O38: 0 | P38: 0 | Q38: Competent Authourity | R38: 0 | S38: 0 | T38: 0 | U38: 0 | V38: Competent Authourity | W38: 0 | X38: 0 | Y38: 0
F39: 0 | G39: Management seats | H39: 0 | I39: 0 | J39: 0 | K39: 0 | L39: Management seats | M39: 0 | N39: 0 | O39: 0 | P39: 0 | Q39: Management seats | R39: 0 | S39: 0 | T39: 0 | U39: 0 | V39: Management seats | W39: 0 | X39: 0 | Y39: 0
E40: Sub Total | F40: =SUM(F34:F39) -> 40 | G40: TOTAL | H40: =SUM(H34:H39) -> 33 | J40: =SUM(J34:J39) -> 1485000 | K40: =SUM(K34:K39) -> 20 | L40: TOTAL | M40: =SUM(M34:M39) -> 14 | O40: =SUM(O34:O39) -> 630000 | P40: =SUM(P34:P39) -> 0 | Q40: TOTAL | R40: =SUM(R34:R39) -> 0 | T40: =SUM(T34:T39) -> 0 | U40: =SUM(U34:U39) -> 0 | V40: TOTAL | W40: =SUM(W34:W39) -> 0 | Y40: =SUM(Y34:Y39) -> 0
D41: Cardiac & Cardio Vascular Technology
E42: IST YEAR | F42: 12 | G42: Competent Authourity | H42: 12 | I42: 45000 | J42: =H42*I42 -> 540000 | K42: 12 | L42: Competent Authourity | M42: 11 | N42: 45000 | O42: =M42*N42 -> 495000 | P42: 0 | Q42: Competent Authourity | R42: 0 | S42: 0 | T42: 0 | U42: 0 | V42: Competent Authourity | W42: 0 | X42: 0 | Y42: 0
F43: 8 | G43: Management seats | H43: 8 | I43: 45000 | J43: =H43*I43 -> 360000 | K43: 8 | L43: Management seats | M43: 8 | N43: 45000 | O43: =M43*N43 -> 360000 | P43: 0 | Q43: Management seats | R43: 0 | S43: 0 | T43: 0 | U43: 0 | V43: Management seats | W43: 0 | X43: 0 | Y43: 0
...

Sheet SCH-2
F2: NAME OF THE COLLEGE PRATHIMA INSTITUTE OF MEDICAL SCIENCES
F3: COURSE B.Sc (MLT) | G3: B.Sc (MLT) , B.Sc(AHS) & PARA MEDICAL
K4: SCHEDULE - 2
C5: STATEMENT OF INCOME FROM PATIENTS OF THE INSTITUTION FOR THE FINANCIAL YEAR 2023-24 & 2024-25
I6: AMOUNT IN RS.
C7: PARTICULARS | G7: FINANCIAL YEARS 2023-24 & 2024-25
G8: COURSES OFFERED
G9: B.Sc(MLT) | I9: B.Sc(AHS) | K9: PARA MEDICAL
G10: FOR THE PERIOD FROM 01/04/2024 TO 31/03/2025 (2024-25) | H10: FOR THE PERIOD FROM 01/04/2023 TO 31/03/2024 (2023-24) | I10: FOR THE PERIOD FROM 01/04/2024 TO 31/03/2025 (2024-25) | J10: FOR THE PERIOD FROM 01/04/2023 TO 31/03/2024 (2023-24) | K10: FOR THE PERIOD FROM 01/04/2024 TO 31/03/2025 (2024-25) | L10: FOR THE PERIOD FROM 01/04/2023 TO 31/03/2024 (2023-24)
G11: 1 | H11: 2 | I11: 3 | J11: 4 | K11: 5 | L11: 6
C13: (1) | D13: Fee From Patients:
C14: a) | D14: In Patents | G14: 0 | H14: 0 | I14: 0 | J14: 0 | K14: 0 | L14: 0
C15: b) | D15: Out Patents | G15: 0 | H15: 0 | I15: 0 | J15: 0 | K15: 0 | L15: 0
C16: c) | D16: Investigation Charges (Blood Tests, ECG, X-ray, CTC, MRI, Culture etc., | G16: 0 | H16: 0 | I16: 0 | J16: 0 | K16: 0 | L16: 0
C17: d) | D17: Other Charges from Patients (Specify with details) | G17: 0 | H17: 0 | I17: 0 | J17: 0 | K17: 0 | L17: 0
C18: (2) | D18: Total Fee from Patients (a)+(b)+(c)+(d) | G18: =G14+G15+G16+G17 -> 0 | H18: =H14+H15+H16+H17 -> 0 | I18: =I14+I15+I16+I17 -> 0 | J18: =J14+J15+J16+J17 -> 0 | K18: =K14+K15+K16+K17 -> 0 | L18: =L14+L15+L16+L17 -> 0
C20: (3) | D20: Aarogyasri Receipts | G20: 0 | H20: 0 | I20: 0 | J20: 0 | K20: 0 | L20: 0
C22: (4) | D22: Any other Fee (Specify with Details) | G22: 0 | H22: 0 | I22: 0 | J22: 0 | K22: 0 | L22: 0
C24: (5) GRAND TOTAL (2)+(3)+(4) | G24: =G18+G20+G22 -> 0 | H24: =H18+H20+H22 -> 0 | I24: =I18+I20+I22 -> 0 | J24: =J18+J20+J22 -> 0 | K24: =K18+K20+K22 -> 0 | L24: =L18+L20+L22 -> 0

Sheet SCH-3
D2: NAME OF THE INSTITUTION PRATHIMA INSTITUTE OF MEDICAL SCIENCES
D3: COURSE B.Sc (MLT) | E3: B.Sc (MLT) , B.Sc(AHS) & PARA MEDICAL
E5: SCHEDULE - 3
B6: STATEMENT OF OTHER INCOME OF THE INSTITUTION FOR THE FINANCIAL YEAR 2023-24 & 2024-25
I7: AMOUNT IN RS.
B8: PARTICULARS | E8: FINANCIAL YEAR 2023-24 & 2024-25
E9: B.Sc(MLT) | G9: B.Sc(AHS) | I9: PARA MEDICAL
E10: FOR THE PERIOD FROM 01/04/2023 TO 31/03/2024 (2023-24) | F10: FOR THE PERIOD FROM 01/04/2024 TO 31/03/2025 (2024-25) | G10: FOR THE PERIOD FROM 01/04/2023 TO 31/03/2024 (2023-24) | H10: FOR THE PERIOD FROM 01/04/2024 TO 31/03/2025 (2024-25) | I10: FOR THE PERIOD FROM 01/04/2023 TO 31/03/2024 (2023-24) | J10: FOR THE PERIOD FROM 01/04/2024 TO 31/03/2025 (2024-25)
E13: 1 | F13: 2 | G13: 3 | H13: 4 | I13: 5 | J13: 6
C14: Interest Received | E14: 0 | F14: 0 | G14: 0 | H14: 0 | I14: 0 | J14: 0
C15: College Bus Fee Collections | E15: 0 | F15: 0 | G15: 0 | H15: 0 | I15: 0 | J15: 0
C16: Interest on FDRs | E16: 0 | F16: 0 | G16: 0 | H16: 0 | I16: 0 | J16: 0
C17: Interest on Electricity Deposits | E17: 0 | F17: 0 | G17: 0 | H17: 0 | I17: 0 | J17: 0
C18: Surplus from Seminars | E18: 0 | F18: 0 | G18: 0 | H18: 0 | I18: 0 | J18: 0
C19: Donations and Contributions | E19: 0 | F19: 0 | G19: 0 | H19: 0 | I19: 0 | J19: 0
C20: Miscellaneous Income | E20: 0 | F20: 0 | G20: 0 | H20: 0 | I20: 0 | J20: 0
C21: Any other income (Specify Head wise) | E21: 0 | F21: 0 | G21: 0 | H21: 0 | I21: 0 | J21: 0
B23: TOTAL | E23: =SUM(E14:E22) -> 0 | F23: =SUM(F14:F22) -> 0 | G23: =SUM(G14:G22) -> 0 | H23: =SUM(H14:H22) -> 0 | I23: =SUM(I14:I22) -> 0 | J23: =SUM(J14:J22) -> 0

Sheet SCH-4(MLT)
B2: NAME OF THE INSTITUTION PRATHIMA INSTITUTE OF MEDICAL SCIENCES
B3: COURSE B.Sc (MLT) | E3: B.Sc (MLT) , B.Sc(AHS) & PARA MEDICAL
B4: DETAILS OF DEPARTMENT (Clinical) WISE ELIGIBLE TEACHING STAFF FOR THE PERIOD 2023-24 AND 2024-25 | AD4: SCHEDULE -4
B5: (please furnish the details department wIse course wise as per the following departments)
B7: 1. Department of General Medicine (a) General Medicine; (b) Tuberculosis & Respiratory Dieases; (c) Dermatology Venereology & Leprosy; (d) Psychiatry; & (e) Other ancillary Staff
B8: 2. Department of Paediatrics; 3. Department of General Surgery; 4. Department of Orthopaedics; 5. Depatment of OTO-RHINO-LARYGOLOGY; 6. Department of Opththalmology; 7. Depatment of Obstetrics and Gynaecology; 8. Depatment of Radio-Diagnosis; 9. Depatment of Anaesthesology; 10. Department of Detistry;
B10: DETAILS OF DEPARTMENT (Clinical) WISE ELIGIBLE TEACHING STAFF FOR THE PERIOD FROM 01/04/2023 TO 31/03/2024
B11: BSC ALLIED HEALTH SCIENCES | AD11: AMOUNT IN RS.
B13: S. No. | C13: EMPLOYEE NAME | D13: PAN No. | E13: AADHAR NO. | F13: DATE OF BIRTH | G13: QUALIFICATION | H13: WHETHER THE EMPLOYEE POSSESSES THE EQUIVALENT QUALIFICATION | I13: BRANCH | J13: DESIGNATION | K13: DATE OF APPOINTMENT TO DESIGNATION | L13: Vth PAY SCALE/ VIth PAY SCALE/ OTHERS | M13: PAY SCALE (BAND) | N13: FOR 01/04/2023 TO 31/03/2024 | V13: PREVIOUS YEARS ARREARS PAID (IF ANY) | W13: PF CONTRIBUTION | Y13: ESI CONTRIBUTION | AA13: PROF. TAX | AB13: TDS | AC13: OTHER DEDUCTIONS | AD13: TOTAL DEDUCTIONS | AE13: NET SALARY | AF13: GRATUITY CONTRIBUTION | AG13: BANK DETAILS IN WHICH SALARY IS BEING CREDITED
N14: BASIC PAY (including AGP) | O14: DA | P14: HRA | Q14: CCA | R14: OTHERS | S14: TOTAL | T14: ARREARS (2023-24) | U14: GROSS SALARY | W14: EMPLOYEE | X14: EMPLOYER | Y14: EMPLOYEE | Z14: EMPLOYER | AG14: NAME | AH14: Account No. | AI14: IFSC
B15: 1 | C15: 2 | D15: 3 | E15: 4 | F15: 5 | G15: 6 | H15: 7 | I15: 8 | J15: 9 | K15: 10 | L15: 11 | M15: 12 | N15: 13 | O15: 14 | P15: 15 | Q15: 16 | R15: 17 | S15: 18 = 13+14+15+16+17) | T15: 19 | U15: 20=(18+19) | V15: 21 | W15: 22 | X15: 23 | Y15: 24 | Z15: 25 | AA15: 26 | AB15: 27 | AC15: 28 | AD15: 29= (22+24+26+27+28) | AE15: 30=(18-29) | AF15: 31 | AG15: 32 | AH15: 33 | AI15: 34
B16: 1 | C16: ANANDAM G | D16: AGYPG9603M | E16: 487157609359 | F16: 23868 | G16: MD | H16: YES | I16: PATHOLOGY | J16: PROF & HOD | K16: 39527 | L16: OTEHRS | M16: - | N16: 600000 | O16: 0 | P16: 0 | Q16: 0 | R16: 1682700 | S16: =SUM(N16:R16) -> 2282700 | T16: 0 | U16: =S16+T16 -> 2282700 | V16: 0 | W16: 0 | X16: 0 | Y16: 0 | Z16: 0 | AA16: 2400 | AB16: 393962.4 | AC16: 4664.5 | AD16: =SUM(W16:AC16) -> 401026.9 | AE16: =U16-AD16 -> 1881673.1 | AF16: 0 | AG16: Union Bank Of India | AH16: 73610100092211 | AI16: UBIN0807362
B17: 2 | C17: JOHN ISRAEL P L | D17: AJAPP5529Q | E17: 365411753431 | F17: 20847 | G17: MD | H17: YES | I17: GENERAL MEDICINE | J17: PROFESSOR & PRINCIPAL | K17: 41568 | L17: OTEHRS | M17: - | N17: 600000 | O17: 0 | P17: 0 | Q17: 0 | R17: 1550000 | S17: =SUM(N17:R17) -> 2150000 | T17: 0 | U17: =S17+T17 -> 2150000 | V17: 0 | W17: 0 | X17: 0 | Y17: 0 | Z17: 0 | AA17: 2400 | AB17: 352560 | AC17: 11751 | AD17: =SUM(W17:AC17) -> 366711 | AE17: =U17-AD17 -> 1783289 | AF17: 0 | AG17: Union Bank Of India | AH17: 328002011000857 | AI17: UBIN0532801
N18: =SUM(N16:N17) -> 1200000 | O18: =SUM(O16:O17) -> 0 | P18: =SUM(P16:P17) -> 0 | Q18: =SUM(Q16:Q17) -> 0 | R18: =SUM(R16:R17) -> 3232700 | S18: =SUM(S16:S17) -> 4432700 | T18: =SUM(T16:T17) -> 0 | U18: =SUM(U16:U17) -> 4432700 | ... AF18: =SUM(AF16:AF17) -> 0
B19: TOTAL
B21: DETAILS OF DEPARTMENT (Clinical) WISE ELIGIBLE TEACHING STAFF FOR THE PERIOD FROM 01/04/2024 TO 31/03/2025
B23: =B11 -> BSC ALLIED HEALTH SCIENCES
B25: S. No. | C25: EMPLOYEE NAME | D25: PAN No. | E25: AADHAR NO. | F25: DATE OF BIRTH | G25: QUALIFICATION | H25: WHETHER THE EMPLOYEE POSSESSES THE EQUIVALENT QUALIFICATION | I25: BRANCH | J25: DESIGNATION | K25: DATE OF APPOINTMENT TO DESIGNATION | L25: Vth PAY SCALE/ VIth PAY SCALE/ OTHERS | M25: PAY SCALE (BAND) | N25: FOR 01/04/2024 TO 31/03/2025 | V25: PREVIOUS YEARS ARREARS PAID (IF ANY) | W25: PF CONTRIBUTION | Y25: ESI CONTRIBUTION | AA25: PROF. TAX | AB25: TDS | AC25: OTHER DEDUCTIONS | AD25: TOTAL DEDUCTIONS | AE25: NET SALARY | AF25: GRATUITY CONTRIBUTION | AG25: BANK DETAILS IN WHICH SALARY IS BEING CREDITED
N26: BASIC PAY (including AGP) | O26: DA | P26: HRA | Q26: CCA | R26: OTHERS | S26: TOTAL | T26: ARREARS (2023-24) | U26: GROSS SALARY | W26: EMPLOYEE | X26: EMPLOYER | Y26: EMPLOYEE | Z26: EMPLOYER | AG26: NAME | AH26: Account No. | AI26: IFSC
B27: 1 | C27: 2 | D27: 3 | E27: 4 | F27: 5 | G27: 6 | H27: 7 | I27: 8 | J27: 9 | K27: 10 | L27: 11 | M27: 12 | N27: 13 | O27: 14 | P27: 15 | Q27: 16 | R27: 17 | S27: 18 = 13+14+15+16+17) | T27: 19 | U27: 20=(18+19) | V27: 21 | W27: 22 | X27: 23 | Y27: 24 | Z27: 25 | AA27: 26 | AB27: 27 | AC27: 28 | AD27: 29= (22+24+26+27+28) | AE27: 30=(18-29) | AF27: 31 | AG27: 32 | AH27: 33 | AI27: 34
B28: 1 | C28: ANANDAM G | D28: AGYPG9603M | E28: 487157609359 | F28: 23868 | G28: MD | H28: YES | I28: PATHOLOGY | J28: PROF & HOD | K28: 39527 | L28: OTEHRS | M28: - | N28: 600000 | O28: 0 | P28: 0 | Q28: 0 | R28: 1693500 | S28: =SUM(N28:R28) -> 2293500 | T28: 0 | U28: =S28+T28 -> 2293500 | V28: 0 | W28: 0 | X28: 0 | Y28: 0 | Z28: 0 | AA28: 2400 | AB28: 379132 | AC28: 7112.9 | AD28: =W28+Y28+AA28+AB28+AC28 -> 388644.9 | AE28: =U28-AD28 -> 1904855.1 | AF28: 0 | AG28: Union Bank Of India | AH28: 73610100092211 | AI28: UBIN0807362
B29: =B28+1 -> 2 | C29: VENKATARAMANA K | D29: AMLPK7055Q | E29: 265311442675 | F29: 28525 | G29: M.Sc Med. Micro | H29: YES | I29: MICROBIOLOGY | J29: ASST PROF | K29: 40434 | L29: OTEHRS | M29: - | N29: 350097 | O29: 0 | P29: 0 | Q29: 0 | R29: 525145 | S29: =SUM(N29:R29) -> 875242 | T29: 0 | U29: =S29+T29 -> 875242 | V29: 0 | W29: 0 | X29: 0 | Y29: 0 | Z29: 0 | AA29: 2400 | AB29: 31225 | AC29: 250 | AD29: =W29+Y29+AA29+AB29+AC29 -> 33875 | AE29: =U29-AD29 -> 841367 | AF29: 0 | AG29: Union Bank Of India | AH29: 610002010005186 | AI29: UBIN0815837
B30: =B29+1 -> 3 | C30: JOHN ISRAEL P L | D30: AJAPP5529Q | E30: 365411753431 | F30: 20847 | G30: MD | H30: YES | I30: GENERAL MEDICINE | J30: PROFESSOR & PRINCIPAL | K30: 41568 | L30: OTEHRS | M30: - | N30: 598387 | O30: 0 | P30: 0 | Q30: 0 | R30: 2094355 | S30: =SUM(N30:R30) -> 2692742 | T30: 0 | U30: =S30+T30 -> 2692742 | V30: 0 | W30: 0 | X30: 0 | Y30: 0 | Z30: 0 | AA30: 2400 | AB30: 503696 | AC30: 10324.5 | AD30: =W30+Y30+AA30+AB30+AC30 -> 516420.5 | AE30: =U30-AD30 -> 2176321.5 | AF30: 0 | AG30: Union Bank Of India | AH30: 328002011000857 | AI30: UBIN0532801
B31: =B30+1 -> 4 | C31: NAGARAMYA NARALA | D31: AUDPN1100B | E31: 598418994308 | F31: 32281 | G31: MD | H31: YES | I31: ANAESTHESIOLOGY | J31: ASSOC PROF | K31: 43645 | L31: OTEHRS | M31: - | N31: 356129 | O31: 0 | P31: 0 | Q31: 0 | R31: 830968 | S31: =SUM(N31:R31) -> 1187097 | T31: 0 | U31: =S31+T31 -> 1187097 | V31: 0 | W31: 0 | X31: 0 | Y31: 0 | Z31: 0 | AA31: 2400 | AB31: 69487 | AC31: 0 | AD31: =W31+Y31+AA31+AB31+AC31 -> 71887 | AE31: =U31-AD31 -> 1115210 | AF31: 0 | AG31: Union Bank Of India | AH31: 610002010008052 | AI31: UBIN0815837
B32: =B31+1 -> 5 | C32: BANDI RAGA DEEPTHI | D32: ASWPB0221G | E32: 347163337829 | F32: 32542 | G32: DNB Neph | H32: YES | I32: GENERAL MEDICINE | J32: ASST PROF | K32: 44763 | L32: OTEHRS | M32: - | N32: 206000 | O32: 0 | P32: 0 | Q32: 0 | R32: 824000 | S32: =SUM(N32:R32) -> 1030000 | T32: 0 | U32: =S32+T32 -> 1030000 | V32: 0 | W32: 0 | X32: 0 | Y32: 0 | Z32: 0 | AA32: 1400 | AB32: 47497 | AC32: 2449.032 | AD32: =W32+Y32+AA32+AB32+AC32 -> 51346.032 | AE32: =U32-AD32 -> 978653.97 | AF32: 0 | AG32: Union Bank Of India | AH32: 151110100177895 | AI32: UBIN0801151
B33: =B32+1 -> 6 | C33: PIRISINGULA SHRUTHI | D33: HYFPS0253F | E33: 647887105702 | F33: 31879 | G33: MSC | H33: YES | I33: MICROBIOLOGY | J33: ASST PROF | K33: 44848 | L33: OTEHRS | M33: - | N33: 300000 | O33: 0 | P33: 0 | Q33: 0 | R33: 349000 | S33: =SUM(N33:R33) -> 649000 | T33: 0 | U33: =S33+T33 -> 649000 | V33: 0 | W33: 0 | X33: 0 | Y33: 0 | Z33: 0 | AA33: 2400 | AB33: 3320 | AC33: 14918 | AD33: =W33+Y33+AA33+AB33+AC33 -> 20638 | AE33: =U33-AD33 -> 628362 | AF33: 0 | AG33: Union Bank Of India | AH33: 53610100137125 | AI33: 0
B34: =B33+1 -> 7 | C34: SABITHA V | D34: ADZPV9399K | E34: 927492445507 | F34: 28606 | G34: M.Sc | H34: YES | I34: BIOCHEMISTRY | J34: ASST PROF | K34: 43544 | L34: OTEHRS | M34: - | N34: 358032 | O34: 0 | P34: 0 | Q34: 0 | R34: 377793 | S34: =SUM(N34:R34) -> 735825 | T34: 0 | U34: =S34+T34 -> 735825 | V34: 0 | W34: 0 | X34: 0 | Y34: 0 | Z34: 0 | AA34: 2400 | AB34: 0 | AC34: 0 | AD34: =W34+Y34+AA34+AB34+AC34 -> 2400 | AE34: =U34-AD34 -> 733425 | AF34: 0 | AG34: Union Bank Of India | AH34: 610002010014162 | AI34: UBIN0815837
B35: =B34+1 -> 8 | C35: K ASHOK CHAITANYA | D35: EEGPK3251D | E35: 854670555671 | F35: 33042 | G35: MD | H35: YES | I35: ANAESTHESIOLOGY | J35: ASST PROF | K35: 45108 | L35: OTEHRS | M35: - | N35: 351257 | O35: 0 | P35: 0 | Q35: 0 | R35: 468346 | S35: =SUM(N35:R35) -> 819603 | T35: 0 | U35: =S35+T35 -> 819603 | V35: 0 | W35: 0 | X35: 0 | Y35: 0 | Z35: 0 | AA35: 2400 | AB35: 25439 | AC35: 0 | AD35: =W35+Y35+AA35+AB35+AC35 -> 27839 | AE35: =U35-AD35 -> 791764 | AF35: 0 | AG35: Union Bank Of India | AH35: 214810100082287 | AI35: UBIN0821489
B36: =B35+1 -> 9 | C36: KRANTHI REKHA YADA | D36: ALRPY0980B | E36: 812023723381 | F36: 34444 | G36: MD | H36: YES | I36: MICROBIOLOGY | J36: ASST PROF | K36: 45190 | L36: OTEHRS | M36: - | N36: 360000 | O36: 0 | P36: 0 | Q36: 0 | R36: 720000 | S36: =SUM(N36:R36) -> 1080000 | T36: 0 | U36: =S36+T36 -> 1080000 | V36: 0 | W36: 0 | X36: 0 | Y36: 0 | Z36: 0 | AA36: 2400 | AB36: 52780 | AC36: 0 | AD36: =W36+Y36+AA36+AB36+AC36 -> 55180 | AE36: =U36-AD36 -> 1024820 | AF36: 0 | AG36: Union Bank Of India | AH36: 274412010001359 | AI36: UBIN0827444
B37: =B36+1 -> 10 | C37: AKSHAY SAXENA | D37: BPUPS0990D | E37: 636665553556 | F37: 32807 | G37: MD | H37: YES | I37: GENERAL MEDICINE | J37: ASST PROF | K37: 45398 | L37: OTEHRS | M37: - | N37: 344032 | O37: 0 | P37: 0 | Q37: 0 | R37: 917420 | S37: =SUM(N37:R37) -> 1261452 | T37: 0 | U37: =S37+T37 -> 1261452 | V37: 0 | W37: 0 | X37: 0 | Y37: 0 | Z37: 0 | AA37: 2400 | AB37: 84625 | AC37: 26526.5 | AD37: =W37+Y37+AA37+AB37+AC37 -> 113551.5 | AE37: =U37-AD37 -> 1147900.5 | AF37: 0 | AG37: Union Bank Of India | AH37: 214812010001920 | AI37: UBIN0821489
B38: =B37+1 -> 11 | C38: KANDI SRILEKHA | D38: EHZPK6678E | E38: 838284080003 | F38: 32865 | G38: MS | H38: YES | I38: OPHTHALMOLOGY | J38: ASST PROF | K38: 45481 | L38: OTEHRS | M38: - | N38: 262259 | O38: 0 | P38: 0 | Q38: 0 | R38: 437096 | S38: =SUM(N38:R38) -> 699355 | T38: 0 | U38: =S38+T38 -> 699355 | V38: 0 | W38: 0 | X38: 0 | Y38: 0 | Z38: 0 | AA38: 1800 | AB38: 0 | AC38: 0 | AD38: =W38+Y38+AA38+AB38+AC38 -> 1800 | AE38: =U38-AD38 -> 697555 | AF38: 0 | AG38: Union Bank Of India | AH38: 30210100105074 | AI38: UBIN0821489
B39: =B38+1 -> 12 | C39: ADURI RAJA SUMAN DATTA | D39: BBDPA2489J | E39: 863179559127 | F39: 33446 | G39: MS & MCH | H39: YES | I39: CARDIO THORACIC AND VASCULAR SURGERY | J39: ASST PROF | K39: 45608 | L39: OTEHRS | M39: - | N39: 139000 | O39: 0 | P39: 0 | Q39: 0 | R39: 324333 | S39: =SUM(N39:R39) -> 463333 | T39: 0 | U39: =S39+T39 -> 463333 | V39: 0 | W39: 0 | X39: 0 | Y39: 0 | Z39: 0 | AA39: 1000 | AB39: 0 | AC39: 2092 | AD39: =W39+Y39+AA39+AB39+AC39 -> 3092 | AE39: =U39-AD39 -> 460241 | AF39: 0 | AG39: Union Bank Of India | AH39: 27910100007037 | AI39: 0
N40: =SUM(N28:N39) -> 4225193 | O40: =SUM(O28:O39) -> 0 | P40: =SUM(P28:P39) -> 0 | Q40: =SUM(Q28:Q39) -> 0 | R40: =SUM(R28:R39) -> 9561956 | S40: =SUM(S28:S39) -> 13787149 | T40: =SUM(T28:T39) -> 0 | U40: =SUM(U28:U39) -> 13787149 | ... AF40: =SUM(AF28:AF39) -> 0
B41: TOTAL
B44: NOTE:
C45: Furnish the details of the other courses by applying the above format.

Sheet SCH-5(MLT)
B2: NAME OF THE INSTITUTION PRATHIMA INSTITUTE OF MEDICAL SCIENCES
B3: COURSE B.Sc (MLT)
B5: DETAILS OF DEPARTMENT (Non-Clinical) WISE ELIGIBLE TEACHING STAFF FOR THE PERIOD 2023-24 AND 2024-25
B6: (please furnish the details department wase course wise as per the following departments)
S7: SCHEDULE -5
B8: 1. Department of Anatomy; 2. Department of Physiology; 3. Department of Biochemistry; 4. Department of Patholgy; 5. Department of Microbiology; 6. Department of Pharmacology; 7. Department of Forensic Medicine; 8. Department of Communy Medicine; 9. Rural Training Health Centre; 10. Urban Training Health Centre
B11: DETAILS OF DEPARTMENT (Non-Clinical) WISE ELIGIBLE TEACHING STAFF FOR THE PERIOD FOR 2023-24
B12: ='SCH-4(MLT)'!B11 -> BSC ALLIED HEALTH SCIENCES | AD12: AMOUNT IN Rs.
B14: S. No. | C14: EMPLOYEE NAME | D14: PAN No. | E14: AADHAR NO. | F14: DATE OF BIRTH | G14: QUALIFICATION | H14: WHETHER THE EMPLOYEE POSSESSES THE EQUIVALENT QUALIFICATION | I14: BRANCH | J14: DESIGNATION | K14: DATE OF APPOINTMENT TO DESIGNATION | L14: Vth PAY SCALE/ VIth PAY SCALE/ OTHERS | M14: PAY SCALE (BAND) | N14: FOR 01/04/2024 TO 31/03/2024 | V14: PREVIOUS YEARS ARREARS PAID (IF ANY) | W14: PF CONTRIBUTION | Y14: ESI CONTRIBUTION | AA14: PROF. TAX | AB14: TDS | AC14: OTHER DEDUCTIONS | AD14: TOTAL DEDUCTIONS | AE14: NET SALARY | AF14: GRATUITY CONTRIBUTION | AG14: BANK DETAILS IN WHICH SALARY IS BEING CREDITED
N15: BASIC PAY (including AGP) | O15: DA | P15: HRA | Q15: CCA | R15: OTHERS | S15: TOTAL | T15: ARREARS (2023-24) | U15: GROSS SALARY | W15: EMPLOYEE | X15: EMPLOYER | Y15: EMPLOYEE | Z15: EMPLOYER | AG15: NAME | AH15: Account No. | AI15: IFSC
B16: 1 | C16: 2 | D16: 3 | E16: 4 | F16: 5 | G16: 6 | H16: 7 | I16: 8 | J16: 9 | K16: 10 | L16: 11 | M16: 12 | N16: 13 | O16: 14 | P16: 15 | Q16: 16 | R16: 17 | S16: 18 = 13+14+15+16+17) | T16: 19 | U16: 20=(18+19) | V16: 21 | W16: 22 | X16: 23 | Y16: 24 | Z16: 25 | AA16: 26 | AB16: 27 | AC16: 28 | AD16: 29= (22+24+26+27+28) | AE16: 30=(18-29) | AF16: 31 | AG16: 32 | AH16: 33 | AI16: 34
B17: 1
B18: 2 | C18: NIL
B20: TOTAL
B22: DETAILS OF DEPARTMENT (Non-Clinical) WISE ELIGIBLE TEACHING STAFF FOR THE PERIOD FOR 2024-25
B23: =B12 -> BSC ALLIED HEALTH SCIENCES
B25: S. No. | C25: EMPLOYEE NAME | D25: PAN No. | E25: AADHAR NO. | F25: DATE OF BIRTH | G25: QUALIFICATION | H25: WHETHER THE EMPLOYEE POSSESSES THE EQUIVALENT QUALIFICATION | I25: BRANCH | J25: DESIGNATION | K25: DATE OF APPOINTMENT TO DESIGNATION | L25: Vth PAY SCALE/ VIth PAY SCALE/ OTHERS | M25: PAY SCALE (BAND) | N25: FOR 01/04/2024 TO 31/03/2025 | V25: PREVIOUS YEARS ARREARS PAID (IF ANY) | W25: PF CONTRIBUTION | Y25: ESI CONTRIBUTION | AA25: PROF. TAX | AB25: TDS | AC25: OTHER DEDUCTIONS | AD25: TOTAL DEDUCTIONS | AE25: NET SALARY | AF25: GRATUITY CONTRIBUTION | AG25: BANK DETAILS IN WHICH SALARY IS BEING CREDITED
N26: BASIC PAY (including AGP) | O26: DA | P26: HRA | Q26: CCA | R26: OTHERS | S26: TOTAL | T26: ARREARS (2024-25) | U26: GROSS SALARY | W26: EMPLOYEE | X26: EMPLOYER | Y26: EMPLOYEE | Z26: EMPLOYER | AG26: NAME | AH26: Account No. | AI26: IFSC
B27: 1 | C27: 2 | D27: 3 | E27: 4 | F27: 5 | G27: 6 | H27: 7 | I27: 8 | J27: 9 | K27: 10 | L27: 11 | M27: 12 | N27: 13 | O27: 14 | P27: 15 | Q27: 16 | R27: 17 | S27: 18 = 13+14+15+16+17) | T27: 19 | U27: 20=(18+19) | V27: 21 | W27: 22 | X27: 23 | Y27: 24 | Z27: 25 | AA27: 26 | AB27: 27 | AC27: 28 | AD27: 29= (22+24+26+27+28) | AE27: 30=(18-29) | AF27: 31 | AG27: 32 | AH27: 33 | AI27: 34
B28: 1
B29: 2 | C29: NIL
B31: TOTAL
B34: NOTE:
C35: Furnish the details of the other courses by applying the above format.

Sheet SCH-6(MLT)
A2: NAME OF THE INSTITUTION PRATHIMA INSTITUTE OF MEDICAL SCIENCES
A3: COURSE B.Sc (MLT)
A5: DETAILS OF ANCILLARY SERIVICES STAFF FOR THE PERIOD 2023-24 and 2024-25 | AD5: SCHEDULE -6
A6: (please furnish the details department wase course wise as per the following departments)
A8: 1. Cenral Record Section; 2. Cenral Animal House; 3. Central Library; 4. Central Photographic cum audiovisual unit; 5. Medical Education Unit; 6. Central Sterization Services Department; 7. Laundry; 8. Blood Bank; 9. Central Casualty Services; 10. Central Workshop; 11. Other Hospital Staff - Nursing Staff; 12 Any other Staff
A10: DETAILS OF ANCILLARY SERIVICES STAFF FOR THE PERIOD FOR 2023-24
A12: ='SCH-5(MLT)'!B12 -> BSC ALLIED HEALTH SCIENCES
A14: S. No. | B14: EMPLOYEE NAME | C14: PAN No. | D14: AADHAR NO. | E14: DATE OF BIRTH | F14: QUALIFICATION | G14: WHETHER THE EMPLOYEE POSSESSES THE EQUIVALENT QUALIFICATION | H14: BRANCH | I14: DESIGNATION | J14: DATE OF APPOINTMENT TO DESIGNATION | K14: Vth PAY SCALE/ VIth PAY SCALE/ OTHERS | L14: PAY SCALE (BAND) | M14: FOR 01/04/2023 TO 31/03/2024 | U14: PREVIOUS YEARS ARREARS PAID (IF ANY) | V14: PF CONTRIBUTION | X14: ESI CONTRIBUTION | Z14: PROF. TAX | AA14: TDS | AB14: OTHER DEDUCTIONS | AC14: TOTAL DEDUCTIONS | AD14: NET SALARY | AE14: GRATUITY CONTRIBUTION | AF14: BANK DETAILS IN WHICH SALARY IS BEING CREDITED
M15: BASIC PAY (including AGP) | N15: DA | O15: HRA | P15: CCA | Q15: OTHERS | R15: TOTAL | S15: ARREARS (2023-24) | T15: GROSS SALARY | V15: EMPLOYEE | W15: EMPLOYER | X15: EMPLOYEE | Y15: EMPLOYER | AF15: NAME | AG15: Account No. | AH15: IFSC
A16: 1 | B16: 2 | C16: 3 | D16: 4 | E16: 5 | F16: 6 | G16: 7 | H16: 8 | I16: 9 | J16: 10 | K16: 11 | L16: 12 | M16: 13 | N16: 14 | O16: 15 | P16: 16 | Q16: 17 | R16: 18 = 13+14+15+16+17) | S16: 19 | T16: 20=(18+19) | U16: 21 | V16: 22 | W16: 23 | X16: 24 | Y16: 25 | Z16: 26 | AA16: 27 | AB16: 28 | AC16: 29= (22+24+26+27+28) | AD16: 30=(18-29) | AE16: 31 | AF16: 32 | AG16: 33 | AH16: 34
A17: 1 | B17: SREEVANI JOGINIPELLI | C17: AHLPJ3327P | D17: 819118532534 | E17: 25739 | F17: PG | G17: YES | H17: LIBRARY | I17: LIBRARIAN | J17: 37530 | K17: OTEHRS | L17: - | M17: 237192 | N17: 0 | O17: 0 | P17: 0 | Q17: 68858 | R17: =SUM(M17:Q17) -> 306050 | S17: 0 | T17: =R17+S17 -> 306050 | U17: 0 | V17: 0 | W17: 0 | X17: 0 | Y17: 0 | Z17: 2400 | AA17: 0 | AB17: 0 | AC17: =V17+X17+Z17+AA17+AB17 -> 2400 | AD17: =T17-AC17 -> 303650 | AE17: 0 | AF17: Union Bank Of India | AG17: 328002011000411 | AH17: UBIN0532801
A18: =A17+1 -> 2 | B18: RAJENDER S | D18: 503661107177 | E18: 29321 | F18: SSC | G18: YES | H18: MAINTENANCE | I18: TECHNICIAN | J18: 37539 | K18: OTEHRS | L18: - | M18: 55866 | N18: 0 | O18: 0 | P18: 0 | Q18: 79387 | R18: =SUM(M18:Q18) -> 135253 | S18: 0 | T18: =R18+S18 -> 135253 | U18: 0 | V18: 13410 | W18: 0 | X18: 1047 | Y18: 0 | Z18: 150 | AA18: 0 | AB18: 0 | AC18: =V18+X18+Z18+AA18+AB18 -> 14607 | AD18: =T18-AC18 -> 120646 | AE18: 0 | AF18: Union Bank Of India | AG18: 328002011001704 | AH18: UBIN0532801
A19: =A18+1 -> 3 | B19: CHIMA KANAKAIAH A | D19: 499524087294 | E19: 28857 | F19: INTERMEDIATE | G19: YES | H19: PHYSIOLOGY | I19: TECHNICIAN | J19: 37550 | K19: OTEHRS | L19: - | M19: 56013 | N19: 0 | O19: 0 | P19: 0 | Q19: 66521 | R19: =SUM(M19:Q19) -> 122534 | S19: 0 | T19: =R19+S19 -> 122534 | U19: 0 | V19: 13452 | W19: 0 | X19: 1056 | Y19: 0 | Z19: 0 | AA19: 0 | AB19: 0 | AC19: =V19+X19+Z19+AA19+AB19 -> 14508 | AD19: =T19-AC19 -> 108026 | AE19: 0 | AF19: Union Bank Of India | AG19: 328002011000864 | AH19: UBIN0532801
A20: =A19+1 -> 4 | B20: G. VENKATESHWAR RAO | D20: 847592888245 | E20: 27758 | F20: iti | G20: YES | H20: PHYSICAL EDUCATION DEPARTMENT | I20: GROUNDS MEN | J20: 37762 | K20: OTEHRS | L20: - | M20: 49307 | N20: 0 | O20: 0 | P20: 0 | Q20: 56460 | R20: =SUM(M20:Q20) -> 105767 | S20: 0 | T20: =R20+S20 -> 105767 | U20: 0 | V20: 11836 | W20: 0 | X20: 929 | Y20: 0 | Z20: 0 | AA20: 0 | AB20: 0 | AC20: =V20+X20+Z20+AA20+AB20 -> 12765 | AD20: =T20-AC20 -> 93002 | AE20: 0 | AF20: Union Bank Of India | AG20: 328002011001011 | AH20: UBIN0532801
A21: =A20+1 -> 5 | B21: THIRUPATHI B | C21: DBAPK3422G | D21: 463976415143 | E21: 30047 | G21: YES | H21: PATHOLOGY | I21: TECHNICIAN | J21: 38616 | K21: OTEHRS | L21: - | M21: 57516 | N21: 0 | O21: 0 | P21: 0 | Q21: 68771 | R21: =SUM(M21:Q21) -> 126287 | S21: 0 | T21: =R21+S21 -> 126287 | U21: 0 | V21: 13818 | W21: 0 | X21: 1080 | Y21: 0 | Z21: 0 | AA21: 0 | AB21: 0 | AC21: =V21+X21+Z21+AA21+AB21 -> 14898 | AD21: =T21-AC21 -> 111389 | AE21: 0 | AF21: Union Bank Of India | AG21: 328002011001813 | AH21: UBIN0532801
A22: =A21+1 -> 6 | B22: SYED SHAH MOHD QUADRI | D22: 869509479602 | E22: 28666 | F22: DIPLOMA | G22: YES | H22: MICROBIOLOGY | I22: TECHNICIAN | J22: 39032 | K22: OTEHRS | L22: - | M22: 57063 | N22: 0 | O22: 0 | P22: 0 | Q22: 68093 | R22: =SUM(M22:Q22) -> 125156 | S22: 0 | T22: =R22+S22 -> 125156 | U22: 0 | V22: 13710 | W22: 0 | X22: 1071 | Y22: 0 | Z22: 0 | AA22: 0 | AB22: 0 | AC22: =V22+X22+Z22+AA22+AB22 -> 14781 | AD22: =T22-AC22 -> 110375 | AE22: 0 | AF22: Union Bank Of India | AG22: 328002011013380 | AH22: UBIN0532801
A23: =A22+1 -> 7 | B23: SATYAM D | C23: EJEPD6068J | D23: 861872122061 | E23: 34199 | F23: INTERMEDIATE | G23: YES | H23: RADIOLOGY | I23: TECHNICIAN | J23: 40336 | K23: OTEHRS | L23: - | M23: 56857 | N23: 0 | O23: 0 | P23: 0 | Q23: 67786 | R23: =SUM(M23:Q23) -> 124643 | S23: 0 | T23: =R23+S23 -> 124643 | U23: 0 | V23: 13638 | W23: 0 | X23: 1068 | Y23: 0 | Z23: 0 | AA23: 0 | AB23: 0 | AC23: =V23+X23+Z23+AA23+AB23 -> 14706 | AD23: =T23-AC23 -> 109937 | AE23: 0 | AF23: Union Bank Of India | AG23: 610002010008097 | AH23: UBIN0815837
A24: =A23+1 -> 8 | B24: VENU KISHAN RAO CH | C24: AIYPC8178P | D24: 678631587087 | E24: 19154 | G24: YES | H24: PHYSICAL EDUCATION DEPARTMENT | I24: PHYSICAL DIRECTOR | J24: 40658 | K24: OTEHRS | L24: - | M24: 245495 | N24: 0 | O24: 0 | P24: 0 | Q24: 0 | R24: =SUM(M24:Q24) -> 245495 | S24: 0 | T24: =R24+S24 -> 245495 | U24: 0 | V24: 0 | W24: 0 | X24: 0 | Y24: 0 | Z24: 1800 | AA24: 0 | AB24: 0 | AC24: =V24+X24+Z24+AA24+AB24 -> 1800 | AD24: =T24-AC24 -> 243695 | AE24: 0 | AF24: Union Bank Of India | AG24: 610002010005918 | AH24: UBIN0815837
A25: =A24+1 -> 9 | B25: HANEEF SHAIK ABDUL | D25: 305998100418 | E25: 32303 | G25: YES | H25: BIOCHEMISTRY | I25: TECHNICIAN | J25: 41183 | K25: OTEHRS | L25: - | M25: 57063 | N25: 0 | O25: 0 | P25: 0 | Q25: 68093 | R25: =SUM(M25:Q25) -> 125156 | S25: 0 | T25: =R25+S25 -> 125156 | U25: 0 | V25: 13710 | W25: 0 | X25: 1071 | Y25: 0 | Z25: 0 | AA25: 0 | AB25: 0 | AC25: =V25+X25+Z25+AA25+AB25 -> 14781 | AD25: =T25-AC25 -> 110375 | AE25: 0 | AF25: Union Bank Of India | AG25: 610002010008958 | AH25: UBIN0815837
A26: =A25+1 -> 10 | B26: RATHNAKAR K | C26: GVGPK4235L | D26: 804041774126 | E26: 31990 | F26: 10th | G26: YES | H26: ADMINISTRATION | I26: ATTENDER | J26: 41183 | K26: OTEHRS | L26: - | M26: 47970 | N26: 0 | O26: 0 | P26: 0 | Q26: 54455 | R26: =SUM(M26:Q26) -> 102425 | S26: 0 | T26: =R26+S26 -> 102425 | U26: 0 | V26: 11514 | W26: 0 | X26: 906 | Y26: 0 | Z26: 0 | AA26: 0 | AB26: 0 | AC26: =V26+X26+Z26+AA26+AB26 -> 12420 | AD26: =T26-AC26 -> 90005 | AE26: 0 | AF26: Union Bank Of India | AG26: 328002011014850 | AH26: UBIN0532801
A27: =A26+1 -> 11 | B27: SRINIVAS KUMAR PENTI | C27: BBIPP6394N | D27: 971290507315 | E27: 28686 | G27: YES | H27: NEPHROLOGY | I27: DIALYSIS TECHINICIAN | J27: 40026 | K27: OTEHRS | L27: - | M27: 285303 | N27: 0 | O27: 0 | P27: 0 | Q27: 176820 | R27: =SUM(M27:Q27) -> 462123 | S27: 0 | T27: =R27+S27 -> 462123 | U27: 0 | V27: 0 | W27: 0 | X27: 0 | Y27: 0 | Z27: 2400 | AA27: 0 | AB27: 0 | AC27: =V27+X27+Z27+AA27+AB27 -> 2400 | AD27: =T27-AC27 -> 459723 | AE27: 0 | AF27: Union Bank Of India | AG27: 328002011001683 | AH27: UBIN0532801
A28: =A27+1 -> 12 | B28: RAVINDER E | D28: 298534951931 | E28: 30888 | F28: DEGREE | G28: YES | H28: MAINTENANCE | I28: TECHNICIAN | J28: 39025 | K28: OTEHRS | L28: - | M28: 57516 | N28: 0 | O28: 0 | P28: 0 | Q28: 100561 | R28: =SUM(M28:Q28) -> 158077 | S28: 0 | T28: =R28+S28 -> 158077 | U28: 0 | V28: 13800 | W28: 0 | X28: 1080 | Y28: 0 | Z28: 750 | AA28: 0 | AB28: 0 | AC28: =V28+X28+Z28+AA28+AB28 -> 15630 | AD28: =T28-AC28 -> 142447 | AE28: 0 | AF28: Union Bank Of India | AG28: 328002011006096 | AH28: UBIN0532801
A29: =A28+1 -> 13 | B29: GANESH PORANDLA | D29: 371376931343 | E29: 30415 | F29: DEGREE | G29: YES | H29: MEDICAL RECORDS | I29: ASSISTANT | J29: 42524 | K29: OTEHRS | L29: - | M29: 58614 | N29: 0 | O29: 0 | P29: 0 | Q29: 70425 | R29: =SUM(M29:Q29) -> 129039 | S29: 0 | T29: =R29+S29 -> 129039 | U29: 0 | V29: 14072 | W29: 0 | X29: 1100 | Y29: 0 | Z29: 0 | AA29: 0 | AB29: 0 | AC29: =V29+X29+Z29+AA29+AB29 -> 15172 | AD29: =T29-AC29 -> 113867 | AE29: 0 | AF29: Union Bank Of India | AG29: 610002010001594 | AH29: UBIN0815837
A30: =A29+1 -> 14 | B30: RUPA KALLA | C30: DQTPK7635H | D30: 511351520802 | E30: 33069 | F30: MSC B.ED | G30: YES | H30: ADMINISTRATION | I30: ADMINSTRATOR | J30: 42583 | K30: OTEHRS | L30: - | M30: 173280 | N30: 0 | O30: 0 | P30: 0 | Q30: 0 | R30: =SUM(M30:Q30) -> 173280 | S30: 0 | T30: =R30+S30 -> 173280 | U30: 0 | V30: 0 | W30: 0 | X30: 0 | Y30: 0 | Z30: 1650 | AA30: 0 | AB30: 0 | AC30: =V30+X30+Z30+AA30+AB30 -> 1650 | AD30: =T30-AC30 -> 171630 | AE30: 0 | AF30: Union Bank Of India | AG30: 610002010012264 | AH30: UBIN0815837
A31: =A30+1 -> 15 | B31: CHINTHANIPPULA HARISH | D31: 793772641248 | E31: 34313 | F31: DEGREE | G31: YES | H31: MAINTENANCE | I31: TECHNICIAN | J31: 43191 | K31: OTEHRS | L31: - | M31: 53136 | N31: 0 | O31: 0 | P31: 0 | Q31: 83635 | R31: =SUM(M31:Q31) -> 136771 | S31: 0 | T31: =R31+S31 -> 136771 | U31: 0 | V31: 12744 | W31: 0 | X31: 996 | Y31: 0 | Z31: 0 | AA31: 0 | AB31: 0 | AC31: =V31+X31+Z31+AA31+AB31 -> 13740 | AD31: =T31-AC31 -> 123031 | AE31: 0 | AF31: Union Bank Of India | AG31: 679102010003903 | AH31: UBIN0821489
A32: =A31+1 -> 16 | B32: JEELUKA MAHESH | D32: 407603724571 | E32: 33760 | F32: ITI | G32: YES | H32: MAINTENANCE | I32: ELECTRICIAN | J32: 43435 | K32: OTEHRS | L32: - | M32: 46192 | N32: 0 | O32: 0 | P32: 0 | Q32: 66869 | R32: =SUM(M32:Q32) -> 113061 | S32: 0 | T32: =R32+S32 -> 113061 | U32: 0 | V32: 11094 | W32: 0 | X32: 862 | Y32: 0 | Z32: 0 | AA32: 0 | AB32: 0 | AC32: =V32+X32+Z32+AA32+AB32 -> 11956 | AD32: =T32-AC32 -> 101105 | AE32: 0 | AF32: Union Bank Of India | AG32: 610002010012485 | AH32: UBIN0815837
A33: =A32+1 -> 17 | B33: GASIKANTI SRIKANTH | D33: 415053144803 | E33: 36658 | F33: ITI | G33: YES | H33: MAINTENANCE | I33: ELECTRICIAN | J33: 43525 | K33: OTEHRS | L33: - | M33: 47232 | N33: 0 | O33: 0 | P33: 0 | Q33: 80853 | R33: =SUM(M33:Q33) -> 128085 | S33: 0 | T33: =R33+S33 -> 128085 | U33: 0 | V33: 11340 | W33: 0 | X33: 885 | Y33: 0 | Z33: 0 | AA33: 0 | AB33: 0 | AC33: =V33+X33+Z33+AA33+AB33 -> 12225 | AD33: =T33-AC33 -> 115860 | AE33: 0 | AF33: Union Bank Of India | AG33: 328002120001746 | AH33: UBIN0532801
A34: =A33+1 -> 18 | B34: VADLURI RAJKUMAR | C34: AZRPV5876H | D34: 901657805074 | E34: 33848 | G34: YES | H34: NEPHROLOGY | I34: DIALYSIS TECHINICIAN | J34: 43617 | K34: OTEHRS | L34: - | M34: 244008 | N34: 0 | O34: 0 | P34: 0 | Q34: 21035 | R34: =SUM(M34:Q34) -> 265043 | S34: 0 | T34: =R34+S34 -> 265043 | U34: 0 | V34: 0 | W34: 0 | X34: 0 | Y34: 0 | Z34: 2400 | AA34: 0 | AB34: 0 | AC34: =V34+X34+Z34+AA34+AB34 -> 2400 | AD34: =T34-AC34 -> 262643 | AE34: 0 | AF34: Union Bank Of India | AG34: 328002011021088 | AH34: UBIN0532801
A35: =A34+1 -> 19 | B35: KOTHAKONDA SWETHA | C35: NBEPS6678N | D35: 859611046619 | E35: 35971 | G35: YES | H35: NEPHROLOGY | I35: DIALYSIS TECHINICIAN | J35: 43895 | K35: OTEHRS | L35: - | M35: 80314 | N35: 0 | O35: 0 | P35: 0 | Q35: 90471 | R35: =SUM(M35:Q35) -> 170785 | S35: 0 | T35: =R35+S35 -> 170785 | U35: 0 | V35: 19274 | W35: 0 | X35: 1508 | Y35: 0 | Z35: 1800 | AA35: 0 | AB35: 0 | AC35: =V35+X35+Z35+AA35+AB35 -> 22582 | AD35: =T35-AC35 -> 148203 | AE35: 0 | AF35: Union Bank Of India | AG35: 610002010015037 | AH35: UBIN0815837
A36: =A35+1 -> 20 | B36: KARNE ANUSHA | C36: IIDPK7969D | D36: 466329196484 | E36: 36474 | F36: DIPLOMA IN CARDIO | G36: YES | H36: CARDIOLOGY | I36: TECHNICIAN | J36: 43998 | K36: OTEHRS | L36: - | M36: 38720 | N36: 0 | O36: 0 | P36: 0 | Q36: 40580 | R36: =SUM(M36:Q36) -> 79300 | S36: 0 | T36: =R36+S36 -> 79300 | U36: 0 | V36: 9294 | W36: 0 | X36: 726 | Y36: 0 | Z36: 750 | AA36: 0 | AB36: 0 | AC36: =V36+X36+Z36+AA36+AB36 -> 10770 | AD36: =T36-AC36 -> 68530 | AE36: 0 | AF36: Union Bank Of India | AG36: 610002010015008 | AH36: UBIN0815837
A37: =A36+1 -> 21 | B37: POLDASARI HEMALATHA | C37: EQNPP2690Q | D37: 229339242330 | E37: 34980 | F37: PG DIPLOMA | G37: YES | H37: CARDIOLOGY | I37: TECHNICIAN | J37: 43998 | K37: OTEHRS | L37: - | M37: 107212 | N37: 0 | O37: 0 | P37: 0 | Q37: 76818 | R37: =SUM(M37:Q37) -> 184030 | S37: 0 | T37: =R37+S37 -> 184030 | U37: 0 | V37: 14214 | W37: 0 | X37: 1110 | Y37: 0 | Z37: 1800 | AA37: 0 | AB37: 0 | AC37: =V37+X37+Z37+AA37+AB37 -> 17124 | AD37: =T37-AC37 -> 166906 | AE37: 0 | AF37: Union Bank Of India | AG37: 610002010015007 | AH37: UBIN0815837
A38: =A37+1 -> 22 | B38: GUDATI HARIKRISHNA | C38: CJUPG2872D | D38: 329370301838 | E38: 29587 | G38: YES | H38: NEPHROLOGY | I38: DIALYSIS TECHINICIAN | J38: 44056 | K38: OTEHRS | L38: - | M38: 244663 | N38: 0 | O38: 0 | P38: 0 | Q38: 22216 | R38: =SUM(M38:Q38) -> 266879 | S38: 0 | T38: =R38+S38 -> 266879 | U38: 0 | V38: 0 | W38: 0 | X38: 0 | Y38: 0 | Z38: 2400 | AA38: 0 | AB38: 0 | AC38: =V38+X38+Z38+AA38+AB38 -> 2400 | AD38: =T38-AC38 -> 264479 | AE38: 0 | AF38: Union Bank Of India | AG38: 111310100251179 | AH38: UBIN0561002
A39: =A38+1 -> 23 | B39: SRIDHAR DONGARI | C39: BZMPD0448R | D39: 572983907307 | E39: 31157 | G39: YES | H39: NEPHROLOGY | I39: DIALYSIS TECHINICIAN | J39: 44063 | K39: OTEHRS | L39: - | M39: 246097 | N39: 0 | O39: 0 | P39: 0 | Q39: 104760 | R39: =SUM(M39:Q39) -> 350857 | S39: 0 | T39: =R39+S39 -> 350857 | U39: 0 | V39: 0 | W39: 0 | X39: 0 | Y39: 0 | Z39: 2400 | AA39: 0 | AB39: 0 | AC39: =V39+X39+Z39+AA39+AB39 -> 2400 | AD39: =T39-AC39 -> 348457 | AE39: 0 | AF39: Union Bank Of India | AG39: 45710100121762 | AH39: UBIN0561002
A40: =A39+1 -> 24 | B40: BEJJANKI KISHORE | C40: BLEPB9201Q | D40: 743123531529 | E40: 33039 | F40: DMIT | G40: YES | H40: RADIOLOGY | I40: TECHNICIAN | J40: 44105 | K40: OTEHRS | L40: - | M40: 186371 | N40: 0 | O40: 0 | P40: 0 | Q40: 148301 | R40: =SUM(M40:Q40) -> 334672 | S40: 0 | T40: =R40+S40 -> 334672 | U40: 0 | V40: 0 | W40: 0 | X40: 0 | Y40: 0 | Z40: 2400 | AA40: 0 | AB40: 0 | AC40: =V40+X40+Z40+AA40+AB40 -> 2400 | AD40: =T40-AC40 -> 332272 | AE40: 0 | AF40: Union Bank Of India | AG40: 610002010015226 | AH40: UBIN0815837
A41: =A40+1 -> 25 | B41: MACHARLA NAVEEN | C41: FRRPM7127R | D41: 503143125363 | E41: 36286 | F41: DIPLOMA IN CAT LAB | G41: YES | H41: CARDIOLOGY | I41: TECHNICIAN | J41: 44277 | K41: OTEHRS | L41: - | M41: 183397 | N41: 0 | O41: 0 | P41: 0 | Q41: 136803 | R41: =SUM(M41:Q41) -> 320200 | S41: 0 | T41: =R41+S41 -> 320200 | U41: 0 | V41: 0 | W41: 0 | X41: 0 | Y41: 0 | Z41: 2400 | AA41: 0 | AB41: 0 | AC41: =V41+X41+Z41+AA41+AB41 -> 2400 | AD41: =T41-AC41 -> 317800 | AE41: 0 | AF41: Union Bank Of India | AG41: 84412010000116 | AH41: UBIN0532801
A42: =A41+1 -> 26 | B42: MOHANNAD ABDUL HAKEEM | C42: AGRPH0645P | D42: 672497646890 | E42: 31178 | F42: BSC | G42: YES | H42: E N T | I42: AUDIOLOGIST CUM SPEECH THERAPIST | J42: 44452 | K42: OTEHRS | L42: - | M42: 215936 | N42: 0 | O42: 0 | P42: 0 | Q42: 134037 | R42: =SUM(M42:Q42) -> 349973 | S42: 0 | T42: =R42+S42 -> 349973 | U42: 0 | V42: 0 | W42: 0 | X42: 0 | Y42: 0 | Z42: 2400 | AA42: 0 | AB42: 0 | AC42: =V42+X42+Z42+AA42+AB42 -> 2400 | AD42: =T42-AC42 -> 347573 | AE42: 0 | AF42: Union Bank Of India | AG42: 15710100044074 | AH42: UBIN0532801
A43: =A42+1 -> 27 | B43: KANCHENA SANDHYA | D43: 247235148802 | E43: 33394 | F43: BSC | G43: YES | H43: MEDICAL RECORDS | I43: COMPUTER OPERATOR | J43: 44896 | K43: OTEHRS | L43: - | M43: 49727 | N43: 0 | O43: 0 | P43: 0 | Q43: 67588 | R43: =SUM(M43:Q43) -> 117315 | S43: 0 | T43: =R43+S43 -> 117315 | U43: 0 | V43: 11932 | W43: 0 | X43: 935 | Y43: 0 | Z43: 200 | AA43: 0 | AB43: 0 | AC43: =V43+X43+Z43+AA43+AB43 -> 13067 | AD43: =T43-AC43 -> 104248 | AE43: 0 | AF43: Union Bank Of India | AG43: 221512010000528 | AH43: 0
A44: =A43+1 -> 28 | B44: BATHINI ROHITH KUMAR | D44: 969324126264 | E44: 31796 | F44: MBA | G44: YES | H44: MEDICAL RECORDS | I44: COMPUTER OPERATOR | J44: 45057 | K44: OTEHRS | L44: - | M44: 46841 | N44: 0 | O44: 0 | P44: 0 | Q44: 71760 | R44: =SUM(M44:Q44) -> 118601 | S44: 0 | T44: =R44+S44 -> 118601 | U44: 0 | V44: 11242 | W44: 0 | X44: 878 | Y44: 0 | Z44: 350 | AA44: 0 | AB44: 0 | AC44: =V44+X44+Z44+AA44+AB44 -> 12470 | AD44: =T44-AC44 -> 106131 | AE44: 0 | AF44: Union Bank Of India | AG44: 610002010012505 | AH44: UBIN0815837
